Workbook

Sheet Proyectos_2020
Q1: 0
B2: Relación e Identificación de los Proyectos de Inversión
B5: INFORMACIÓN DE LA IES | E5: RELACIÓN E IDENTIFICACION DE LOS PROYECTOS DE INVERSIÓN QUE CONFORMAN EL PFC (2020 - 2022) | Q5: METAS DE GESTIÓN / RESULTADO DEL PROYECTO DE INVERSIÓN (Reportar en valor numérico) | V5: INDICADORES DE CALIDAD ASOCIADOS AL PROYECTO DE INVERSIÓN (Tomar como referencia lo relacionado en el "Componente 1" del Formato "Capitulo4_Anexo1_Estructura_de_los_Proyectos_de_Inversión") | AA5: LUGAR / UBICACIÓN DÓNDE SE DESARROLLARÁ EL PROYECTO DE INVERSIÓN | AE5: FUENTES DE FINANCIACIÓN ASOCIADAS AL PROYECTO DE INVERSIÓN (Valor expresado en Millones de Pesos)
B6: Código SNIES | C6: Carácter de la IES (Universidad / ITTU) | D6: Nombre IES | E6: Número del Proyecto (Secuencia en número) | F6: Número BPIN del Proyecto (Diligenciar si aplica. De lo contrario rellenar con "No Aplica") | G6: Línea de Inversión (Líneas sugeridas) | H6: Sublínea de Inversión (Sublíneas Sugeridas) (Revisar pestaña "Tabla_1.Sugerencias_Sublineas") | I6: Estrategias/Acciones/Actividades (Tomar como referencia lo relacionado en el "Componente 3" del Formato "Capitulo4_Anexo1_Estructura_de_los_Proyectos_de_Inversión") | J6: Línea de inversión transversal (Líneas sugeridas) | K6: Sublínea de Inversión transversal (Sublíneas Sugeridas) (Revisar pestaña "Tabla_1.Sugerencias_Sublineas") | L6: Nombre del Proyecto de Inversión (Tomar como referencia lo relacionado en el "Componente 3" del Formato "Capitulo4_Anexo1_Estructura_de_los_Proyectos_de_Inversión") | M6: Alcance/Resultado del proyecto (Tomar como referencia lo relacionado en el "Componente 3" del Formato "Capitulo4_Anexo1_Estructura_de_los_Proyectos_de_Inversión") | N6: Unidad de Medida (Ejemplos: número de beneficiarios, número de docentes, metros cuadrados, etc) | O6: Fecha Inicio del Proyecto del Inversión (Desde XX Fecha) | P6: Fecha de Finalización del Proyecto de Inversión (Hasta XX Fecha) | Q6: Línea Base Año 2019 | R6: Año 2020 | S6: Año 2021 | T6: Año 2022 | U6: Suma total de las metas de cada vigencia | V6: Nombre Indicador de Calidad (Ejemplos: tasa de deserción, tasa de graduación, matricula, número de docentes, número de productos de investigación, número de estrategias rurales, etc) | W6: Línea Base Año 2019 | X6: Año 2020 | Y6: Año 2021 | Z6: Año 2022 | AA6: Código DANE Municipio (En el cual se ejecutará el Proyecto) | AB6: Nombre del Municipio (En el cual se ejecutará el Proyecto) | AC6: Código SNIES Sede (De la Sede en la que se ejecutará el Proyecto) | AD6: Nombre del Municipio de la Sede (De la Sede en la que se ejecutará el Proyecto) | AE6: Estampillas (Recursos Pro-UNAL y Univ. Publicas) (Ley 1697 / 13) | AF6: Otras Estampillas (Diferentes a Recursos Pro-UNAL y U. Publicas. Ley 1697/13) | AG6: Recursos Propios de la Institución | AH6: Recursos CREE (Suma de los excedentes de recursos acumulados en las vigencias 2013 - 2017) | AI6: Recursos PFC 2019 (Recursos de la vigencia 2019) | AJ6: Recursos PFC 2019 - Pasivos (Recursos de la vigencia 2019 por concepto de Pasivos) | AK6: Recursos PFC 2020 (Recursos adicionales asignados para el periodo 2020) | AL6: Otras Fuentes (Identificar cuáles son y describirlo en el campo de "observaciones y aspectos relevantes del proyecto") | AM6: Suma de las fuentes de financiación que componen el proyecto
B7: 1121 | C7: =+IFERROR(VLOOKUP(B7,'[1]Tabla_3.Código SNIES'!$A$1:$F$307,3,FALSE), "-") -> UNIVERSIDAD | D7: COLEGIO MAYOR DE CUNDINAMARCA | E7: 02-3407 | F7: No Aplica | G7: Bienestar en educación superior y permanencia estudiantil | H7: Permanencia | I7: Fortalecer el proceso de implementación de los sistemas de caracterización, alertas tempranas y acompañamiento. | J7: Bienestar en educación superior y permanencia estudiantil | K7: Bienestar en educación superior y permanencia estudiantil | L7: Permanencia Estudiantil | M7: - Generar acompañamiento desde las cuatro líneas de intervención (académica, financiera, institucional y psicosocial), a través de las cuales la institución diseñará estrategias preventivas, intervenidas y correctivas - Apropiación del Sistema de Permanencia y Graduación: capacitación a nuevo talento humano respecto a los componentes del sistema y las estrategias para la implementación del mismo. - Implementación del Sistema de Permanencia y Graduación: implica el desarrollo de estrategias preventivas, intervenidas y correctivas que garanticen el ingreso, permanencia y graduación estudiantil. | N7: Tasa de deserción anual | O7: 44165 | P7: 44560 | Q7: 0.08 | R7: 0.0767 | S7: 0.0734 | T7: 0.0701 | U7: =SUM(Q7:T7) -> 0.3002 | V7: Porcentaje de tasa de deserción anual | W7: 8% | X7: 7.67% | Y7: 7.34% | Z7: 7.01% | AA7: 11001 | AB7: BOGOTÁ D.C. | AC7: 1121 | AD7: BOGOTÁ D.C. | AE7: 0 | AF7: 0 | AG7: 0 | AH7: 0 | AI7: 300 | AJ7: 0 | AK7: 80 | AL7: 0 | AM7: =SUM(AE7:AL7) -> 380
B8: 1121 | C8: =+IFERROR(VLOOKUP(B8,'[1]Tabla_3.Código SNIES'!$A$1:$F$307,3,FALSE), "-") -> UNIVERSIDAD | D8: COLEGIO MAYOR DE CUNDINAMARCA | E8: 02-3409 | F8: No Aplica | G8: Bienestar en educación superior y permanencia estudiantil | H8: Bienestar " (1) Mejoras en los procesos institucionales" | I8: Modernizar la estructura organizacional de la universidad que contribuya con la mejora en los procesos administrativos y motivación del personal. | J8: Bienestar en educación superior y permanencia estudiantil | K8: Bienestar | L8: Rediseño Organizacional | M8: Realización documento diagnóstico organizacional con base en antecedentes históricos y realidad institucional; Realización documento estudio técnico de rediseño organizacional de la universidad; Propuesta de actos administrativos y documento sustento técnico, financiero y jurídico. | N8: Diagnóstico y estudio técnico | O8: 44165 | P8: 44560 | Q8: 0 | R8: 1 | S8: 1 | T8: 0 | U8: =SUBTOTAL(9,Q8:T8) -> 2 | V8: Diagnóstico y estudio técnico, financiero y jurídico para el rediseño organización de la universidad | W8: 0 | X8: 1 | Y8: 1 | Z8: 0 | AA8: 11001 | AB8: BOGOTÁ D.C. | AC8: 1121 | AD8: BOGOTÁ D.C. | AE8: 0 | AF8: 0 | AG8: 100 | AH8: 0 | AI8: 0 | AJ8: 0 | AK8: 350 | AL8: 0 | AM8: =SUM(AE8:AL8) -> 450
B9: 1121 | C9: =+IFERROR(VLOOKUP(B9,'[1]Tabla_3.Código SNIES'!$A$1:$F$307,3,FALSE), "-") -> UNIVERSIDAD | D9: COLEGIO MAYOR DE CUNDINAMARCA | E9: 02-3402 | F9: No Aplica | G9: Bienestar en educación superior y permanencia estudiantil | H9: Bienestar " (1) Mejoras en los procesos institucionales" | I9: Fortalecer el modelo integral de planeación y gestión de la universidad Colegio Mayor de Cundinamarca que contribuya al mejoramiento y optimización de los procesos académicos y administrativos. | J9: Bienestar en educación superior y permanencia estudiantil | K9: Bienestar | L9: Fortalecimiento sistemas integrados de gestión | M9: Realizar el diagnóstico, elaboración, socialización e implementación del modelo MIPG adaptado a la universidad. | N9: Contrato | O9: 44165 | P9: 44560 | Q9: 0 | R9: 1 | S9: 1 | T9: 0 | U9: =SUBTOTAL(9,R9:T9) -> 2 | V9: Implementación del modelo MIPG adaptado a la universidad | W9: 0 | X9: 1 | Y9: 1 | Z9: 1 | AA9: 11001 | AB9: BOGOTÁ D.C. | AC9: 1121 | AD9: BOGOTÁ D.C. | AE9: 0 | AF9: 0 | AG9: 0 | AH9: 0 | AI9: 0 | AJ9: 0 | AK9: 40 | AL9: 0 | AM9: =SUM(AE9:AL9) -> 40
B10: 1121 | C10: =+IFERROR(VLOOKUP(B10,'[2]Tabla_3.Código SNIES'!$A$1:$F$307,3,FALSE), "-") -> UNIVERSIDAD | D10: =+IFERROR(VLOOKUP(B10,'[2]Tabla_3.Código SNIES'!$A$1:$F$307,5,FALSE), "-") -> UNIVERSIDAD-COLEGIO MAYOR DE CUNDINAMARCA | E10: 02-3406 | F10: BPIN 2020000100019 | G10: Formación para la investigación e investigación formativa | H10: Formación para la investigación | I10: Cofinanciar el proyecto LATIN 4.0 Ministerio de Ciencias y Tecnología (recursos de regalías). | J10: Formación para la investigación e investigación formativa | K10: Formación para la investigación | L10: Fortalecimiento de la investigación | M10: Fortalecimiento de capacidades de investigación y desarrollo tecnológico de la Universidad Colegio Mayor de Cundinamarca a partir de tecnologías 4.0 para el diseño y la construcción en Bogotá | N10: Implementación de un laboratorio para el diseño y la construcción en Bogotá | O10: 44165 | P10: 44560 | Q10: 0 | R10: 1 | S10: 1 | T10: 1 | U10: =SUM(Q10:T10) -> 3 | V10: (No. de proyectos de investigación financiados con fondos externos / No. de proyectos de investigación presentados a fondos concursables externos) * 100 | W10: 0 | X10: 1 | Y10: 1 | Z10: 1 | AA10: 11001 | AB10: BOGOTÁ, D.C. | AC10: 1121 | AD10: BOGOTÁ, D.C. | AE10: 0 | AF10: 0 | AG10: 0 | AH10: 0 | AI10: 0 | AJ10: 0 | AK10: 148 | AL10: 0 | AM10: =SUM(AE10:AL10) -> 148
B11: 1121 | C11: =+IFERROR(VLOOKUP(B11,'[2]Tabla_3.Código SNIES'!$A$1:$F$307,3,FALSE), "-") -> UNIVERSIDAD | D11: =+IFERROR(VLOOKUP(B11,'[2]Tabla_3.Código SNIES'!$A$1:$F$307,5,FALSE), "-") -> UNIVERSIDAD-COLEGIO MAYOR DE CUNDINAMARCA | E11: 02-3406 | F11: No Aplica | G11: Formación para la investigación e investigación formativa | H11: Investigación formativa | I11: Convocatoria 874 Fortalecimiento a jóvenes investigadores en Ciencias de la Salud. Ministerio de Ciencias y Tecnología Ministerio de Salud y Protección Social - cofinanciación | J11: Formación para la investigación e investigación formativa | K11: Investigación formativa | L11: Fortalecimiento de la investigación | M11: Para el fortalecimiento de los proyectos, se vincularán Jóvenes Talento (profesionales y de pregrado) como sujetos activos en la investigación, con responsabilidades claramente definidas en la producción de nuevo conocimiento e integración del enfoque de apropiación social mediante ciencia, tecnología e innovación | N11: Proyectos de investigación fortalecidos | O11: 44165 | P11: 44560 | Q11: 0 | R11: 3 | S11: 1 | T11: 1 | U11: =SUM(Q11:T11) -> 5 | V11: (No. de proyectos de investigación financiados con fondos externos / No. de proyectos de investigación presentados a fondos concursables externos) * 100 | W11: 0 | X11: 1 | Y11: 1 | Z11: 1 | AA11: 11001 | AB11: BOGOTÁ, D.C. | AC11: 1121 | AD11: BOGOTÁ, D.C. | AE11: 0 | AF11: 0 | AG11: 0 | AH11: 0 | AI11: 0 | AJ11: 0 | AK11: 109 | AL11: 0 | AM11: =SUM(AE11:AL11) -> 109
B12: 1121 | C12: =+IFERROR(VLOOKUP(B12,'[2]Tabla_3.Código SNIES'!$A$1:$F$307,3,FALSE), "-") -> UNIVERSIDAD | D12: =+IFERROR(VLOOKUP(B12,'[2]Tabla_3.Código SNIES'!$A$1:$F$307,5,FALSE), "-") -> UNIVERSIDAD-COLEGIO MAYOR DE CUNDINAMARCA | E12: 02-3406 | F12: No Aplica | G12: Formación para la investigación e investigación formativa | H12: Formación para la investigación | I12: Desarrollo de procesos de formación en investigación para docentes | J12: Formación para la investigación e investigación formativa | K12: Formación para la investigación | L12: Fortalecimiento de la investigación | M12: Desarrollo de procesos de formación en investigación para docentes (Seminarios o cursos), 70 docentes. | N12: Docentes formados en investigación | O12: 44165 | P12: 44560 | Q12: 55 | R12: 70 | S12: 70 | T12: 70 | U12: =SUM(Q12:T12) -> 265 | V12: Docentes formados en investigación | W12: 55 | X12: 70 | Y12: 70 | Z12: 70 | AA12: 11001 | AB12: BOGOTÁ, D.C. | AC12: 1121 | AD12: BOGOTÁ, D.C. | AE12: 0 | AF12: 0 | AG12: 0 | AH12: 0 | AI12: 0 | AJ12: 0 | AK12: 70 | AL12: 0 | AM12: =SUM(AE12:AL12) -> 70
B13: 1121 | C13: =+IFERROR(VLOOKUP(B13,'[2]Tabla_3.Código SNIES'!$A$1:$F$307,3,FALSE), "-") -> UNIVERSIDAD | D13: =+IFERROR(VLOOKUP(B13,'[2]Tabla_3.Código SNIES'!$A$1:$F$307,5,FALSE), "-") -> UNIVERSIDAD-COLEGIO MAYOR DE CUNDINAMARCA | E13: 02-3406 | F13: No Aplica | G13: Formación para la investigación e investigación formativa | H13: Gestión para la investigación | I13: Estudio de factibilidad para la constitución de un Centro de Investigación y una Oficina de Transferencia de Conocimiento | J13: Formación para la investigación e investigación formativa | K13: Gestión para la investigación | L13: Fortalecimiento de la investigación | M13: Estudio de factibilidad para la constitución de un Centro de Investigación y una Oficina de Transferencia de Conocimiento | N13: Estudio de factibilidad | O13: 44165 | P13: 44560 | Q13: 0 | R13: 1 | S13: 0 | T13: 0 | U13: =SUM(Q13:T13) -> 1 | V13: Estudio de factibilidad realizado | W13: 0 | X13: 1 | Y13: 0 | Z13: 0 | AA13: 11001 | AB13: BOGOTÁ, D.C. | AC13: 1121 | AD13: BOGOTÁ, D.C. | AE13: 0 | AF13: 0 | AG13: 0 | AH13: 0 | AI13: 0 | AJ13: 0 | AK13: 80 | AL13: 0 | AM13: =SUM(AE13:AL13) -> 80
B14: 1121 | C14: =+IFERROR(VLOOKUP(B14,'[2]Tabla_3.Código SNIES'!$A$1:$F$307,3,FALSE), "-") -> UNIVERSIDAD | D14: =+IFERROR(VLOOKUP(B14,'[2]Tabla_3.Código SNIES'!$A$1:$F$307,5,FALSE), "-") -> UNIVERSIDAD-COLEGIO MAYOR DE CUNDINAMARCA | E14: 02-3406 | F14: No Aplica | G14: Formación para la investigación e investigación formativa | H14: Gestión para la investigación | I14: Parametrización del Software de Gestión de Proyectos de Investigación | J14: Formación para la investigación e investigación formativa | K14: Gestión para la investigación | L14: Fortalecimiento de la investigación | M14: Un contrato de soporte y parametrización del Software de Gestión de Proyectos de Investigación | N14: Contrato de soporte y parametrización | O14: 44165 | P14: 44560 | Q14: 1 | R14: 1 | S14: 1 | T14: 1 | U14: =SUM(Q14:T14) -> 4 | V14: Sistema de información que soporte los procesos de gestión del conocimiento implementado | W14: 0.01 | X14: 1 | Y14: 1 | Z14: 1 | AA14: 11001 | AB14: BOGOTÁ, D.C. | AC14: 1121 | AD14: BOGOTÁ, D.C. | AE14: 0 | AF14: 0 | AG14: 0 | AH14: 0 | AI14: 0 | AJ14: 0 | AK14: 150 | AL14: 0 | AM14: =SUM(AE14:AL14) -> 150
B15: 1121 | C15: =+IFERROR(VLOOKUP(B15,'[2]Tabla_3.Código SNIES'!$A$1:$F$307,3,FALSE), "-") -> UNIVERSIDAD | D15: =+IFERROR(VLOOKUP(B15,'[2]Tabla_3.Código SNIES'!$A$1:$F$307,5,FALSE), "-") -> UNIVERSIDAD-COLEGIO MAYOR DE CUNDINAMARCA | E15: 02-3406 | F15: No Aplica | G15: Formación para la investigación e investigación formativa | H15: Gestión para la investigación | I15: Plataforma Antiplagio, actualizada y con cobertura ampliada. | J15: Formación para la investigación e investigación formativa | K15: Gestión para la investigación | L15: Fortalecimiento de la investigación | M15: Plataforma antiplagio Turnitin actualizada con cobertura ampliada | N15: Contrato | O15: 44165 | P15: 44560 | Q15: 1 | R15: 1 | S15: 1 | T15: 1 | U15: =SUM(Q15:T15) -> 4 | V15: (No. de revistas indexadas y Categorizadas / No. De revistas proyectadas para categorizar) *100 | W15: 1 | X15: 1 | Y15: 1 | Z15: 1 | AA15: 11001 | AB15: BOGOTÁ, D.C. | AC15: 1121 | AD15: BOGOTÁ, D.C. | AE15: 0 | AF15: 0 | AG15: 0 | AH15: 0 | AI15: 0 | AJ15: 0 | AK15: 100 | AL15: 0 | AM15: =SUM(AE15:AL15) -> 100
B16: 1121 | C16: =+IFERROR(VLOOKUP(B16,'[2]Tabla_3.Código SNIES'!$A$1:$F$307,3,FALSE), "-") -> UNIVERSIDAD | D16: =+IFERROR(VLOOKUP(B16,'[2]Tabla_3.Código SNIES'!$A$1:$F$307,5,FALSE), "-") -> UNIVERSIDAD-COLEGIO MAYOR DE CUNDINAMARCA | E16: 02-3406 | F16: No Aplica | G16: Formación para la investigación e investigación formativa | H16: Gestión para la investigación | I16: Sistema de publicación de revistas digitales OJS | J16: Formación para la investigación e investigación formativa | K16: Gestión para la investigación | L16: Fortalecimiento de la investigación | M16: Sistema de publicación de revistas digital OJS (Open Journal System), en funcionamiento. | N16: Contrato | O16: 44165 | P16: 44560 | Q16: 1 | R16: 1 | S16: 1 | T16: 1 | U16: =SUM(Q16:T16) -> 4 | V16: (No. de revistas indexadas y Categorizadas / No. De revistas proyectadas para categorizar) *100 | W16: 1 | X16: 1 | Y16: 1 | Z16: 1 | AA16: 11001 | AB16: BOGOTÁ, D.C. | AC16: 1121 | AD16: BOGOTÁ, D.C. | AE16: 0 | AF16: 0 | AG16: 0 | AH16: 0 | AI16: 0 | AJ16: 0 | AK16: 80 | AL16: 0 | AM16: =SUM(AE16:AL16) -> 80
B17: 1121 | C17: =+IFERROR(VLOOKUP(B17,'[2]Tabla_3.Código SNIES'!$A$1:$F$307,3,FALSE), "-") -> UNIVERSIDAD | D17: =+IFERROR(VLOOKUP(B17,'[2]Tabla_3.Código SNIES'!$A$1:$F$307,5,FALSE), "-") -> UNIVERSIDAD-COLEGIO MAYOR DE CUNDINAMARCA | E17: 02-3406 | F17: No Aplica | G17: Formación para la investigación e investigación formativa | H17: Investigación formativa | I17: Convenio SUE Nodo Distrital Vinculación de cuatro (4) jóvenes investigadores SUE por ocho meses 1 de enero del 2021 (El recurso quedaría comprometido en el 2020) | J17: Formación para la investigación e investigación formativa | K17: Investigación formativa | L17: Fortalecimiento de la investigación | M17: Contratar 4 jóvenes investigadores auxiliares para el desarrollo de los proyectos | N17: Jóvenes investigadores auxiliares | O17: 44165 | P17: 44560 | Q17: 0 | R17: 4 | S17: 1 | T17: 1 | U17: =SUM(Q17:T17) -> 6 | V17: Jóvenes investigadores vinculados | W17: 0 | X17: 4 | Y17: 1 | Z17: 1 | AA17: 11001 | AB17: BOGOTÁ, D.C. | AC17: 1121 | AD17: BOGOTÁ, D.C. | AE17: 0 | AF17: 0 | AG17: 0 | AH17: 0 | AI17: 0 | AJ17: 0 | AK17: 85 | AL17: 0 | AM17: =SUM(AE17:AL17) -> 85
B18: 1121 | C18: =+IFERROR(VLOOKUP(B18,'[3]Tabla_3.Código SNIES'!$A$1:$F$307,3,FALSE), "-") -> UNIVERSIDAD | D18: =+IFERROR(VLOOKUP(B18,'[3]Tabla_3.Código SNIES'!$A$1:$F$307,5,FALSE), "-") -> UNIVERSIDAD-COLEGIO MAYOR DE CUNDINAMARCA | E18: 02-3405 | F18: No Aplica | G18: Formación docente disciplinar y en educación, pedagógica y didáctica | H18: Formación educativa (Formación docente con orientación en practicas pedagógicas) | I18: Cualificar a los docentes de la universidad para el mejoramiento de sus prácticas pedagógicas. | J18: Formación docente disciplinar y en educación, pedagógica y didáctica | K18: Formación docente disciplinar y en educación, pedagógica y didáctica | L18: Desarrollo profesoral | M18: Desarrollar cursos de cualificación docente que permitan capacitar a 100 docentes para mejorar sus prácticas pedagógicas presencial y virtual, en el marco de las exigencias de la educación superior. | N18: Docentes cualificados | O18: 44165 | P18: 44560 | Q18: 77 | R18: 192 | S18: 100 | T18: 120 | U18: 489 | V18: Numero de docentes cualificados | W18: 77 | X18: 100 | Y18: 120 | Z18: 140 | AA18: 11001 | AB18: BOGOTÁ, D.C. | AC18: 1121 | AD18: BOGOTÁ, D.C. | AE18: 0 | AF18: 0 | AG18: 0 | AH18: 0 | AI18: 0 | AJ18: 0 | AK18: 120 | AL18: 0 | AM18: =SUM(AE18:AL18) -> 120
B19: 1121 | C19: =+IFERROR(VLOOKUP(B19,'[4]Tabla_3.Código SNIES'!$A$1:$F$307,3,FALSE), "-") -> UNIVERSIDAD | D19: =+IFERROR(VLOOKUP(B19,'[4]Tabla_3.Código SNIES'!$A$1:$F$307,5,FALSE), "-") -> UNIVERSIDAD-COLEGIO MAYOR DE CUNDINAMARCA | E19: 02-3404 | F19: No Aplica | G19: Dotación, infraestructura tecnológica y adecuación de infraestructura | H19: Dotación | I19: Modernizar el parque de equipos de cómputo que han superado su vida útil, incorporando equipos de última tecnología que soporte adecuadamente el desarrollo de las actividades misionales y de apoyo desarrolladas en aulas de informática y, áreas académica y administrativa. | J19: Dotación, infraestructura tecnológica y adecuación de infraestructura | K19: Dotación | L19: Fortalecimiento de la plataforma tecnológica institucional | M19: Renovación de los equipos de cómputo que han superado su vida útil, los cuales ascienden a 502, de acuerdo con los recursos asignados por el PFC para la vigencia 2020. El alcance definido consiste en la renovación del 40% (211 equipos) del total de los equipos identificados para renovar. | N19: Equipos de computo | O19: 44165 | P19: 44560 | Q19: 337 | R19: 211 | S19: 297 | T19: 148 | U19: =SUM(Q19:T19) -> 993 | V19: Renovación de equipos de cómputo proyectados para renovar | W19: 337 | X19: 211 | Y19: 297 | Z19: 148 | AA19: 11001 | AB19: =+IFERROR(VLOOKUP(AA19,'[4]Tabla_2.Código DANE Municipio'!$D$1:$E$1123,2,FALSE), "-") -> BOGOTÁ, D.C. | AC19: 1121 | AD19: BOGOTÁ, D.C. | AE19: 20 | AF19: 0 | AG19: 0 | AH19: 0 | AI19: 0 | AJ19: 0 | AK19: 2205 | AL19: 0 | AM19: =SUM(AE19:AL19) -> 2225
B20: 1121 | C20: =+IFERROR(VLOOKUP(B20,'[3]Tabla_3.Código SNIES'!$A$1:$F$307,3,FALSE), "-") -> UNIVERSIDAD | D20: =+IFERROR(VLOOKUP(B20,'[3]Tabla_3.Código SNIES'!$A$1:$F$307,5,FALSE), "-") -> UNIVERSIDAD-COLEGIO MAYOR DE CUNDINAMARCA | E20: 02-3404 | F20: No Aplica | G20: Dotación, infraestructura tecnológica y adecuación de infraestructura | H20: Dotación | I20: Incorporar el licenciamiento de software requerido para soportar eficientemente las actividades académicas y administrativas de la universidad | J20: Dotación, infraestructura tecnológica y adecuación de infraestructura | K20: Dotación | L20: Fortalecimiento de la plataforma tecnológica institucional | M20: Realizar la adquisicion del licenciamiento educativo de software STATA, SPSS, Meteonorm, Archicad, Zbrush y el Campus de Microsoft, como soporte al desarrollo de las actividades académicas en aulas de informática y apoyo a la gestion insitucional. | N20: Contratos de licenciamiento de software | O20: 44165 | P20: 44560 | Q20: 0 | R20: 6 | S20: 4 | T20: 4 | U20: =SUM(Q20:T20) -> 14 | V20: Contratos de licenciamiento de software | W20: NA | X20: 6 | Y20: 4 | Z20: 4 | AA20: 11001 | AB20: BOGOTÁ, D.C. | AC20: 1121 | AD20: BOGOTÁ, D.C. | AE20: 126 | AF20: 0 | AG20: 0 | AH20: 0 | AI20: 0 | AJ20: 0 | AK20: 206 | AL20: 0 | AM20: =SUM(AE20:AL20) -> 332
B21: 1121 | C21: =+IFERROR(VLOOKUP(B21,'[3]Tabla_3.Código SNIES'!$A$1:$F$307,3,FALSE), "-") -> UNIVERSIDAD | D21: =+IFERROR(VLOOKUP(B21,'[3]Tabla_3.Código SNIES'!$A$1:$F$307,5,FALSE), "-") -> UNIVERSIDAD-COLEGIO MAYOR DE CUNDINAMARCA | E21: 02-3404 | F21: No Aplica | G21: Dotación, infraestructura tecnológica y adecuación de infraestructura | H21: Dotación | I21: Dar continuidad a los servicios de mesa de ayuda y mantenimiento integral de equipos de computo y dispositivos institucionales, para mantener en operación estos recursos tecnológicos que soportan el cumplimiento de las actividades misionales y de apoyo. | J21: Dotación, infraestructura tecnológica y adecuación de infraestructura | K21: Dotación | L21: Fortalecimiento de la plataforma tecnológica institucional | M21: Realizar la contratacion de los servicios de actualización y soporte para el sistema de mesa de ayuda insitucional y del mantenimiento integral para los equipos de computo y dispositivos. | N21: Contratos de mantenimiento y actualizacion de servicios | O21: 44165 | P21: 44560 | Q21: 0 | R21: 2 | S21: 2 | T21: 2 | U21: =SUM(Q21:T21) -> 6 | V21: Contrato de mantenimiento y actualización de servicios | W21: NA | X21: 2 | Y21: 2 | Z21: 2 | AA21: 11001 | AB21: BOGOTÁ, D.C. | AC21: 1121 | AD21: BOGOTÁ, D.C. | AE21: 0 | AF21: 0 | AG21: 0 | AH21: 0 | AI21: 0 | AJ21: 0 | AK21: 155 | AL21: 0 | AM21: =SUM(AE21:AL21) -> 155
B22: 1121 | C22: =+IFERROR(VLOOKUP(B22,'[3]Tabla_3.Código SNIES'!$A$1:$F$307,3,FALSE), "-") -> UNIVERSIDAD | D22: =+IFERROR(VLOOKUP(B22,'[3]Tabla_3.Código SNIES'!$A$1:$F$307,5,FALSE), "-") -> UNIVERSIDAD-COLEGIO MAYOR DE CUNDINAMARCA | E22: 02-3404 | F22: No Aplica | G22: Dotación, infraestructura tecnológica y adecuación de infraestructura | H22: Dotación | I22: Renovar centros de impresión y digitalización institucionales, incorporando equipos multifuncionales, tablas digitalizadoras y monitores que soporten el desarrollo de componentes temáticos y en general la gestion insitucional. | J22: Dotación, infraestructura tecnológica y adecuación de infraestructura | K22: Dotación | L22: Fortalecimiento de la plataforma tecnológica institucional | M22: Realizar la adquisicion de impresoras multifuncionales, tabletas digitalizadoras y monitores, apalancando el desarrollo de las actividades institucionales. El alcance corresponde a 10 equipos multifuncionales, 25 tabletas y 1 monitor. | N22: Dispositivos de impresión y digitalización | O22: 44165 | P22: 44560 | Q22: 0 | R22: 36 | S22: 15 | T22: 15 | U22: =SUM(Q22:T22) -> 66 | V22: Renovación de dispositivos de impresión y digitalización | W22: NA | X22: 36 | Y22: 0 | Z22: 0 | AA22: 11001 | AB22: BOGOTÁ, D.C. | AC22: 1121 | AD22: BOGOTÁ, D.C. | AE22: 0 | AF22: 0 | AG22: 0 | AH22: 0 | AI22: 0 | AJ22: 0 | AK22: 110 | AL22: 0 | AM22: =SUM(AE22:AL22) -> 110
B23: 1121 | C23: =+IFERROR(VLOOKUP(B23,'[3]Tabla_3.Código SNIES'!$A$1:$F$307,3,FALSE), "-") -> UNIVERSIDAD | D23: =+IFERROR(VLOOKUP(B23,'[3]Tabla_3.Código SNIES'!$A$1:$F$307,5,FALSE), "-") -> UNIVERSIDAD-COLEGIO MAYOR DE CUNDINAMARCA | E23: 02-3403 | F23: No Aplica | G23: Dotación, infraestructura tecnológica y adecuación de infraestructura | H23: Dotación | I23: Implementación del modelo de aseguramiento de la calidad | J23: Dotación, infraestructura tecnológica y adecuación de infraestructura | K23: Dotación | L23: Fortalecimiento de la autoevaluación y acreditación Alta calidad | M23: Implementar un sistema de información que permita apoyar la gestión del proceso de autoevaluación de los programas académicos e insitucional. El alcance del proyecto es la adquisición y puesta en funcionamiento de un sistema de información que mejore la capacidad de gestionar la información concerniente al modelo de autoevaluación, con capacidad de manejar indicadores del tipo estadístico, documental y de opinión, dotando de los elementos necesarios para su debida recolección, almacenamiento, reporte y gestión en el sistema | N23: Sistema de información de aseguramiento de la calidad implementado y soportado | O23: 44165 | P23: 44560 | Q23: 0 | R23: 1 | S23: 1 | T23: 1 | U23: =SUM(Q23:T23) -> 3 | V23: Sistema de información de aseguramiento de la calidad implementado | W23: 0 | X23: 1 | Y23: 0 | Z23: 0 | AA23: 11001 | AB23: BOGOTÁ, D.C. | AC23: 1121 | AD23: BOGOTÁ, D.C. | AE23: 0 | AF23: 0 | AG23: 0 | AH23: 0 | AI23: 0 | AJ23: 0 | AK23: 100 | AL23: 0 | AM23: =SUM(AE23:AL23) -> 100
B24: 1121 | C24: =+IFERROR(VLOOKUP(B24,'[3]Tabla_3.Código SNIES'!$A$1:$F$307,3,FALSE), "-") -> UNIVERSIDAD | D24: =+IFERROR(VLOOKUP(B24,'[3]Tabla_3.Código SNIES'!$A$1:$F$307,5,FALSE), "-") -> UNIVERSIDAD-COLEGIO MAYOR DE CUNDINAMARCA | E24: 02-3401 | F24: No Aplica | G24: Dotación, infraestructura tecnológica y adecuación de infraestructura | H24: Dotación | I24: Fortalecer el proceso de gestión en recursos bibliográficos y educativos, prioritario para el incremento y actualización de las colecciones en diferentes formatos impreso, digital y audiovisual para apoyar a la academia e investigación de universidad, apuntando a las necesidades del Plan de Desarrollo Institucional y a los estándares de calidad para la Biblioteca de la Universidad Colegio Mayor de Cundinamarca. | J24: Infraestructura tecnológica y Dotación de colecciones bibliográficas, documentales y de archivo, bases de datos y revistas suficientes, pertinentes y actualizadas para respaldar las labores académicas | K24: ..(3) Actualizar colecciones bibliográficas, documentales y de archivo, bases de datos y revistas suficientes, pertinentes y actualizadas para respaldar las labores académicas.. | L24: Fortalecimiento de recursos bibliográficos | M24: Satisfacer las necesidades académicas de los diferentes estamentos de la Universidad desde los procesos y servicios bibliotecarios y durante la formación académica de los usuarios hasta que sean profesionales de acuerdo a lo establecido en la Educación Superior y a los estándares de calidad para la Biblioteca Universitaria de Unicolmayor. Vlex, Iladiba Y Salud Hoy, Base de Datos Building Type Online, Artículo 20, Implementación Servicio Sistema del Repositorio Biblioteca Digital Dspace Servicio en la Nube, Herramientas Para Bibliotecología (Sistema De clasificación Decimal Dewey e Índice Relativo, Rda Armarc En Línea), Suscripción a Publicaciones Seriadas, Adquisición de Material Bibliográfico, Servicio de mantenimiento y restauración de colecciones. | N24: Recursos bibliográficos | O24: 44165 | P24: 44560 | Q24: 0 | R24: 511 | S24: 600 | T24: 700 | U24: =SUM(Q24:T24) -> 1811 | V24: Adquisición de Material Bibliográfico(500 libros, renovar suscripción 11 bases de datos) | W24: 0 | X24: 511 | Y24: 600 | Z24: 700 | AA24: 11001 | AB24: BOGOTÁ, D.C. | AC24: 1121 | AD24: BOGOTÁ, D.C. | AE24: 0 | AF24: 0 | AG24: 0 | AH24: 0 | AI24: 0 | AJ24: 0 | AK24: 169 | AL24: 0 | AM24: =SUM(AE24:AL24) -> 169
B25: 1121 | C25: =+IFERROR(VLOOKUP(B25,'[3]Tabla_3.Código SNIES'!$A$1:$F$307,3,FALSE), "-") -> UNIVERSIDAD | D25: =+IFERROR(VLOOKUP(B25,'[3]Tabla_3.Código SNIES'!$A$1:$F$307,5,FALSE), "-") -> UNIVERSIDAD-COLEGIO MAYOR DE CUNDINAMARCA | E25: 02-3408 | F25: No Aplica | G25: Dotación, infraestructura tecnológica y adecuación de infraestructura | H25: Dotación | I25: Contratar el avalúo de los priorizados por el Consejo Superior Universitario, correspondientes a Usaquén - Carrera 7 Calle 173 y Engativá - Av Boyacá calle 66 | J25: Dotación, infraestructura tecnológica y adecuación de infraestructura | K25: Construcción de infraestructura educativa de infraestructura nueva, mediante la adquisicion un predio | L25: Nueva planta física universidad | M25: Realizar avalúos comerciales para la adquisición de predios para la nueva sede | N25: Avalúos de predios priorizados | O25: 44165 | P25: 44560 | Q25: 0 | R25: 2 | S25: 0 | T25: 0 | U25: =SUM(Q25:T25) -> 2 | V25: Avalúos de predios realizados | W25: 0 | X25: 2 | Y25: 0 | Z25: 0 | AA25: 11001 | AB25: BOGOTÁ, D.C. | AC25: 1121 | AD25: BOGOTÁ, D.C. | AE25: 0 | AF25: 0 | AG25: 0 | AH25: 0 | AI25: 0 | AJ25: 0 | AK25: 60 | AL25: 0 | AM25: =SUM(AE25:AL25) -> 60
B30: Nombre del Representante Legal de la institución : MARIA RUTH HERNANDEZ MARTINEZ | D30: MARIA RUTH HERNANDEZ MARTINEZ
B31: Cédula de Ciudadanía: 21.082.291 de Útica. | D31: 21.082.291 de Útica.
B32: Dirección de la IES: Calle 28 5B-02 | D32: Calle 28 5B-02
B33: Teléfono Fijo y/o Celular: 3365875; Conm. 2458800 ext. 110, 245 | D33: 3365875; Conm. 2458800 ext. 110, 245
B34: Correo Electrónico:rectoria2@unicolmayor.edu.co | D34: rectoria2@unicolmayor.edu.co
B37: Revisó: Stella Maria Marquez Verbel - Jefe Oficina de Planeacion, Sistemas y Desarrollo | C37: Revisó: Stella Maria Marquez Verbel - Jefe Oficina de Planeacion, Sistemas y Desarrollo
B38: Celular : 3004675958 | C38: Celular : 3004675958
B40: Elaboró: Sandra Rubiano Rodriguez - Profesional Especializado Oficina de Planeacion,Sistemas y Desarrollo | C40: Elaboró: Sandra Rubiano Rodriguez - Profesional Especializado Oficina de Planeacion,Sistemas y Desarrollo

Sheet FORM Y SEG BIENEST
C3: Formulación y Seguimiento por Proyecto de Inversión
C6: Código SNIES | D6: 1121 | E6: Nombre IES | F6: =+IFERROR(VLOOKUP(D6,'Tabla_3.Código SNIES'!$A$1:$F$307,5,FALSE), "-") -> UNIVERSIDAD-COLEGIO MAYOR DE CUNDINAMARCA | J6: N° Proyecto | K6: 02-3407
C7: Número BPIN del Proyecto (Si aplica) | D7: No aplica.
C8: Nombre de la Linea de Inversión | D8: Bienestar en educación superior y permanencia estudiantil
C9: Nombre de la Sublinea de Inversión | D9: Permanencia
C10: Nombre del Proyecto de Inversión | D10: Permanencia Estudiantil
C11: Alcance/Resultado del Proyecto | D11: Fortalecer el sistema de permanencia estudiantil, a partir de : - Generar acompañamiento desde las cuatro líneas de intervención (académica, financiera, institucional y psicosocial), a través de las cuales la institución diseñará estrategias preventivas, interventivas y correctivas - Apropiación del Sistema de Permanencia y Graduación: capacitación a nuevo talento humano respecto a los componentes del sistema y las estrategias para la implementación del mismo. - Implementación del Sistema de Permanencia y Graduación: implica el desarrollo de estrategias preventivas, interventivas y correctivas que garanticen el ingreso, permanencia y graduación estudiantil.
C12: Nombre del Municipio (En el cual se ejecutará el Proyecto) | D12: Bogotá D.C.
C13: Nombre del Municipio de la Sede (De la Sede en la que se ejecutará el Proyecto) | D13: Bogotá D.C.
C14: Descripción del avance del proyecto * Tener en cuenta cual de los siguientes dos siguientes casos aplica para reportar la información en este campo: 1. Si es un "Proyecto Previo": Detallar el avance frente a lo que se ha ejecutado (resumir el objetivo, las actividades realizadas, las metas cumplidas, listar cuales son los soportes relacionados con el avance del proyecto). 2. Si es un "Proyecto Nuevo": Aclarar que se informará el avance para los reportes de seguimiento posteriores indicando la fecha de inicio del proyecto. | H14: Porcentaje (%) total de avance del proyecto | K14: 0
C15: El avance se registrara en los informes de seguimiento posteriores.
C16: Fecha de Inicio del Proyecto (Desde XX Fecha) | D16: 44165 | F16: Fecha Fin del Proyecto (Hasta XX Fecha) | H16: 44560
C18: Fases de implementación del proyecto (Describir en el mismo orden que se llevarán a cabo cada una de las fases requeridas para la implementación y puesta en marcha del proyecto) ** Nota: Se deberá desagregar las Estrategias/Acciones/Actividades que se indicaron en el "Componente 3" del "Capitulo4_Anexo1_Estructura_de_los_Proyectos_de_Inversión" | G18: Fecha de Inicio de la Fase (Desde XX Fecha) | H18: Fecha de Finalización de la Fase (Hasta XX Fecha) | I18: Identificar en que vigencia se efectuará esta Fase (Año) | J18: Ponderación de la Fase frente al Total del Proyecto (Peso % de la Fase frente al total del Proyecto) | K18: Ponderación de Avance de la Fase (Peso % de lo que ha avanzado la Fase)
C19: Actividad 1. Aprobación de líneas de inversión del Plan de Fomento a la Calidad PFC para asignación de recursos 2020, definición de apuestas y metas institucionales articuladas con el Plan de Desarrollo Institucional - PDI 2020-2025 y con los proyectos de inversión de la Universidad; y aprobación del PFC por parte del Consejo Superior. | G19: 44140 | H19: 44145 | I19: 2020 | J19: 0.1 | K19: 0.1
C20: Actividad 2. Realización del proceso precontractual y contractual para las actividades programadas | G20: 44145 | H20: 44185 | I20: 2020 | J20: 0.1 | K20: 0.1
C21: Actividad 3. Implementación, parametrización y puesta en marcha de: - Acompañamiento desde las cuatro líneas de intervención (académica, financiera, institucional y psicosocial), a través de las cuales la institución diseñará estrategias preventivas, interventivas y correctivas - Apropiación del Sistema de Permanencia y Graduación: capacitación a nuevo talento humano respecto a los componentes del sistema y las estrategias para la implementación del mismo. - Implementación del Sistema de Permanencia y Graduación: implica el desarrollo de estrategias preventivas, interventivas y correctivas que garanticen el ingreso, permanencia y graduación estudiantil. | G21: 44197 | H21: 44560 | I21: 2021 | J21: 0.8 | K21: 0.8
J22: =SUM(J19:J21) -> 1 | K22: =SUM(K19:K21) -> 1
C24: Fuente Recursos | D24: Recursos Apropiados (Valor en Millones de Pesos) | E24: Recursos Comprometidos (Valor en Millones de Pesos) | F24: Recursos Ejecutados (Valor en Millones de Pesos)
C25: Estampillas (Recursos Pro-UNAL y Univ. Publicas) - (Ley 1697 / 13)
C26: Otras Estampillas
C27: Recursos Propios de la Institución
C28: Recursos CREE (Suma de los excedentes de recursos acumulados en las vigencias 2013 - 2017)
C29: Recursos PFC 2019 (Excedente de recursos de la vigencia 2019) | D29: 300 | E29: 300
C30: Recursos PFC 2019 - Pasivos (Excedente de recursos de la vigencia 2019 por concepto de Pasivos)
C31: Recursos PFC 2020 (Recursos adicionales asignados para el periodo 2020) | D31: 80 | E31: 80
C32: Otras Fuentes (identificar cuáles son)
C33: Suma de las fuentes de financiación que componen el proyecto | D33: =SUM(D25:D32) -> 380 | E33: =SUM(E25:E32) -> 380 | F33: =SUM(F25:F32) -> 0
C35: Riesgos del Proyecto de Inversión
C36: * Riesgos Operativos: Comprenden los riesgos provenientes del funcionamiento y operatividad de los sistemas de información institucional, de la definición de los procesos, de la estructura de la entidad, de la articulación entre dependencias. -Retrasos en la ejecución del cronograma precontractual y contractual. -Continuación de la emergencia sanitaria que influiría en el desarrollo eficiente del proceso.
C37: * Riesgos Financieros: Se relacionan con el manejo de los recursos de la entidad que incluyen la ejecución presupuestal, la elaboración de los estados financieros, los pagos, los manejos de excedentes de tesorería y el manejo sobre los bienes.
C40: Se firma en la ciudad de Bogotá a los seis días del mes de noviembre de 2020.
C44: Nombre del Representante Legal de la institución : MARIA RUTH HERNANDEZ MARTINEZ
C45: Cédula de Ciudadanía: 21.082.291 de Útica.
C46: Dirección de la IES: Calle 28 5B-02
C47: Teléfono Fijo y/o Celular: 3365875; Conm. 2458800 ext. 110, 245
C48: Correo Electrónico:rectoria2@unicolmayor.edu.co
C51: Revisó: Stella Maria Marquez Verbel - Jefe Oficina de Planeacion, Sistemas y Desarrollo
C52: Celular : 3004675958
C54: Elaboró: Sandra Rubiano Rodriguez - Profesional Especializado Oficina de Planeacion,Sistemas y Desarrollo

Sheet FORM Y SEG REDISEÑO
C3: Formulación y Seguimiento por Proyecto de Inversión
C6: Código SNIES | D6: 1121 | E6: Nombre IES | F6: =+IFERROR(VLOOKUP(D6,'Tabla_3.Código SNIES'!$A$1:$F$307,5,FALSE), "-") -> UNIVERSIDAD-COLEGIO MAYOR DE CUNDINAMARCA | J6: N° Proyecto | K6: 02-3409
C7: Número BPIN del Proyecto (Si aplica) | D7: No aplica.
C8: Nombre de la Linea de Inversión | D8: Bienestar en educación superior y permanencia estudiantil
C9: Nombre de la Sublinea de Inversión | D9: Bienestar " (1) Mejoras en los procesos institucionales"
C10: Nombre del Proyecto de Inversión | D10: Rediseño Organizacional
C11: Alcance/Resultado del Proyecto | D11: Realización documento diagnóstico organizacional con base en antecedentes históricos y realidad institucional Realización documento estudio técnico de rediseño organizacional de la universidad Propuestas actos administrativos y documentos sustento técnico, financiero y jurídico
C12: Nombre del Municipio (En el cual se ejecutará el Proyecto) | D12: Bogotá D.C.
C13: Nombre del Municipio de la Sede (De la Sede en la que se ejecutará el Proyecto) | D13: Bogotá D.C.
C14: Descripción del avance del proyecto * Tener en cuenta cual de los siguientes dos siguientes casos aplica para reportar la información en este campo: 1. Si es un "Proyecto Previo": Detallar el avance frente a lo que se ha ejecutado (resumir el objetivo, las actividades realizadas, las metas cumplidas, listar cuales son los soportes relacionados con el avance del proyecto). 2. Si es un "Proyecto Nuevo": Aclarar que se informará el avance para los reportes de seguimiento posteriores indicando la fecha de inicio del proyecto. | H14: Porcentaje (%) total de avance del proyecto | K14: 0
C15: El avance se registrara en los informes de seguimiento posteriores.
C16: Fecha de Inicio del Proyecto (Desde XX Fecha) | D16: 44165 | F16: Fecha Fin del Proyecto (Hasta XX Fecha) | H16: 44560
C18: Fases de implementación del proyecto (Describir en el mismo orden que se llevarán a cabo cada una de las fases requeridas para la implementación y puesta en marcha del proyecto) ** Nota: Se deberá desagregar las Estrategias/Acciones/Actividades que se indicaron en el "Componente 3" del "Capitulo4_Anexo1_Estructura_de_los_Proyectos_de_Inversión" | G18: Fecha de Inicio de la Fase (Desde XX Fecha) | H18: Fecha de Finalización de la Fase (Hasta XX Fecha) | I18: Identificar en que vigencia se efectuará esta Fase (Año) | J18: Ponderación de la Fase frente al Total del Proyecto (Peso % de la Fase frente al total del Proyecto) | K18: Ponderación de Avance de la Fase (Peso % de lo que ha avanzado la Fase)
C19: Actividad 1. Aprobación de líneas de inversión del Plan de Fomento a la Calidad PFC para asignación de recursos 2020, definición de apuestas y metas institucionales articuladas con el Plan de Desarrollo Institucional - PDI 2020-2025 y con los proyectos de inversión de la Universidad; y aprobación del PFC por parte del Consejo Superior. | G19: 44140 | H19: 44145 | I19: 2020 | J19: 0.1 | K19: 0.1
C20: Actividad 2. Realización del proceso precontractual y contractual para las actividades programadas | G20: 44145 | H20: 44185 | I20: 2020 | J20: 0.1 | K20: 0.1
C21: Actividad 3. Realización documento diagnóstico organizacional con base en antecedentes históricos y realidad institucional Realización documento estudio técnico de rediseño organizacional de la universidad Propuestas actos administrativos y documentos sustento técnico, financiero y jurídico | G21: 44197 | H21: 44560 | I21: 2021 | J21: 0.8 | K21: 0.8
J22: =SUM(J19:J21) -> 1 | K22: =SUM(K19:K21) -> 1
C24: Fuente Recursos | D24: Recursos Apropiados (Valor en Millones de Pesos) | E24: Recursos Comprometidos (Valor en Millones de Pesos) | F24: Recursos Ejecutados (Valor en Millones de Pesos)
C25: Estampillas (Recursos Pro-UNAL y Univ. Publicas) - (Ley 1697 / 13)
C26: Otras Estampillas
C27: Recursos Propios de la Institución | D27: 100 | E27: 100
C28: Recursos CREE (Suma de los excedentes de recursos acumulados en las vigencias 2013 - 2017)
C29: Recursos PFC 2019 (Excedente de recursos de la vigencia 2019)
C30: Recursos PFC 2019 - Pasivos (Excedente de recursos de la vigencia 2019 por concepto de Pasivos)
C31: Recursos PFC 2020 (Recursos adicionales asignados para el periodo 2020) | D31: 350 | E31: 350
C32: Otras Fuentes (identificar cuáles son)
C33: Suma de las fuentes de financiación que componen el proyecto | D33: =SUM(D25:D32) -> 450 | E33: =SUM(E25:E32) -> 450 | F33: =SUM(F25:F32) -> 0
C35: Riesgos del Proyecto de Inversión
C36: * Riesgos Operativos: Comprenden los riesgos provenientes del funcionamiento y operatividad de los sistemas de información institucional, de la definición de los procesos, de la estructura de la entidad, de la articulación entre dependencias. Retrasos en la ejecución del cronograma precontractual y contractual. Continuación de la emergencia sanitaria que influiría en el desarrollo eficiente del proceso.
C37: * Riesgos Financieros: Se relacionan con el manejo de los recursos de la entidad que incluyen la ejecución presupuestal, la elaboración de los estados financieros, los pagos, los manejos de excedentes de tesorería y el manejo sobre los bienes.
C40: Se firma en la ciudad de Bogotá a los seis días del mes de noviembre de 2020.
C44: Nombre del Representante Legal de la institución : MARIA RUTH HERNANDEZ MARTINEZ
C45: Cédula de Ciudadanía: 21.082.291 de Útica.
C46: Dirección de la IES: Calle 28 5B-02
C47: Teléfono Fijo y/o Celular: 3365875; Conm. 2458800 ext. 110, 245
C48: Correo Electrónico:rectoria2@unicolmayor.edu.co
C51: Revisó: Stella Maria Marquez Verbel - Jefe Oficina de Planeacion, Sistemas y Desarrollo
C52: Celular : 3004675958
C54: Elaboró: Sandra Rubiano Rodriguez - Profesional Especializado Oficina de Planeacion,Sistemas y Desarrollo

Sheet FORM Y SEG MIPG
C3: Formulación y Seguimiento por Proyecto de Inversión
C6: Código SNIES | D6: 1121 | E6: Nombre IES | F6: =+IFERROR(VLOOKUP(D6,'Tabla_3.Código SNIES'!$A$1:$F$307,5,FALSE), "-") -> UNIVERSIDAD-COLEGIO MAYOR DE CUNDINAMARCA | J6: N° Proyecto | K6: 02-3402
C7: Número BPIN del Proyecto (Si aplica) | D7: No aplica.
C8: Nombre de la Linea de Inversión | D8: Bienestar en educación superior y permanencia estudiantil
C9: Nombre de la Sublinea de Inversión | D9: Bienestar " (1) Mejoras en los procesos institucionales"
C10: Nombre del Proyecto de Inversión | D10: Fortalecimiento sistemas integrados de gestión
C11: Alcance/Resultado del Proyecto | D11: Diagnóstico, elaboración, implementación y socialización de planes de acción MIPG adaptado a la universidad
C12: Nombre del Municipio (En el cual se ejecutará el Proyecto) | D12: Bogotá D.C.
C13: Nombre del Municipio de la Sede (De la Sede en la que se ejecutará el Proyecto) | D13: Bogotá D.C.
C14: Descripción del avance del proyecto * Tener en cuenta cual de los siguientes dos siguientes casos aplica para reportar la información en este campo: 1. Si es un "Proyecto Previo": Detallar el avance frente a lo que se ha ejecutado (resumir el objetivo, las actividades realizadas, las metas cumplidas, listar cuales son los soportes relacionados con el avance del proyecto). 2. Si es un "Proyecto Nuevo": Aclarar que se informará el avance para los reportes de seguimiento posteriores indicando la fecha de inicio del proyecto. | H14: Porcentaje (%) total de avance del proyecto | K14: 0
C15: El avance se registrara en los informes de seguimiento posteriores.
C16: Fecha de Inicio del Proyecto (Desde XX Fecha) | D16: 44165 | F16: Fecha Fin del Proyecto (Hasta XX Fecha) | H16: 44560
C18: Fases de implementación del proyecto (Describir en el mismo orden que se llevarán a cabo cada una de las fases requeridas para la implementación y puesta en marcha del proyecto) ** Nota: Se deberá desagregar las Estrategias/Acciones/Actividades que se indicaron en el "Componente 3" del "Capitulo4_Anexo1_Estructura_de_los_Proyectos_de_Inversión" | G18: Fecha de Inicio de la Fase (Desde XX Fecha) | H18: Fecha de Finalización de la Fase (Hasta XX Fecha) | I18: Identificar en que vigencia se efectuará esta Fase (Año) | J18: Ponderación de la Fase frente al Total del Proyecto (Peso % de la Fase frente al total del Proyecto) | K18: Ponderación de Avance de la Fase (Peso % de lo que ha avanzado la Fase)
C19: Actividad 1. Aprobación de líneas de inversión del Plan de Fomento a la Calidad PFC para asignación de recursos 2020, definición de apuestas y metas institucionales articuladas con el Plan de Desarrollo Institucional - PDI 2020-2025 y con los proyectos de inversión de la Universidad; y aprobación del PFC por parte del Consejo Superior. | G19: 44140 | H19: 44145 | I19: 2020 | J19: 0.1 | K19: 0.1
C20: Actividad 2. Realización del proceso precontractual y contractual para las actividades programadas | G20: 44145 | H20: 44185 | I20: 2020 | J20: 0.1 | K20: 0.1
C21: Actividad 3. Realizar el diagnóstico, elaboración, socialización e implementación del modelo MIPG adaptado a la universidad | G21: 44197 | H21: 44560 | I21: 2021 | J21: 0.8 | K21: 0.8
J22: =SUM(J19:J21) -> 1 | K22: =SUM(K19:K21) -> 1
C24: Fuente Recursos | D24: Recursos Apropiados (Valor en Millones de Pesos) | E24: Recursos Comprometidos (Valor en Millones de Pesos) | F24: Recursos Ejecutados (Valor en Millones de Pesos)
C25: Estampillas (Recursos Pro-UNAL y Univ. Publicas) - (Ley 1697 / 13)
C26: Otras Estampillas
C27: Recursos Propios de la Institución
C28: Recursos CREE (Suma de los excedentes de recursos acumulados en las vigencias 2013 - 2017)
C29: Recursos PFC 2019 (Excedente de recursos de la vigencia 2019)
C30: Recursos PFC 2019 - Pasivos (Excedente de recursos de la vigencia 2019 por concepto de Pasivos)
C31: Recursos PFC 2020 (Recursos adicionales asignados para el periodo 2020) | D31: 40 | E31: 40
C32: Otras Fuentes (identificar cuáles son)
C33: Suma de las fuentes de financiación que componen el proyecto | D33: =SUM(D25:D32) -> 40 | E33: =SUM(E25:E32) -> 40 | F33: =SUM(F25:F32) -> 0
C35: Riesgos del Proyecto de Inversión
C36: * Riesgos Operativos: Comprenden los riesgos provenientes del funcionamiento y operatividad de los sistemas de información institucional, de la definición de los procesos, de la estructura de la entidad, de la articulación entre dependencias. Retrasos en la ejecución del cronograma precontractual y contractual. Continuación de la emergencia sanitaria que influiría en el desarrollo eficiente del proceso.
C37: * Riesgos Financieros: Se relacionan con el manejo de los recursos de la entidad que incluyen la ejecución presupuestal, la elaboración de los estados financieros, los pagos, los manejos de excedentes de tesorería y el manejo sobre los bienes.
C40: Se firma en la ciudad de Bogotá a los seis días del mes de noviembre de 2020.
C44: Nombre del Representante Legal de la institución : MARIA RUTH HERNANDEZ MARTINEZ
C45: Cédula de Ciudadanía: 21.082.291 de Útica.
C46: Dirección de la IES: Calle 28 5B-02
C47: Teléfono Fijo y/o Celular: 3365875; Conm. 2458800 ext. 110, 245
C48: Correo Electrónico:rectoria2@unicolmayor.edu.co
C51: Revisó: Stella Maria Marquez Verbel - Jefe Oficina de Planeacion, Sistemas y Desarrollo
C52: Celular : 3004675958
C54: Elaboró: Sandra Rubiano Rodriguez - Profesional Especializado Oficina de Planeacion,Sistemas y Desarrollo

Sheet FORM Y SEG INVES
C3: Formulación y Seguimiento por Proyecto de Inversión
C6: Código SNIES | D6: 1121 | E6: Nombre IES | F6: =+IFERROR(VLOOKUP(D6,'Tabla_3.Código SNIES'!$A$1:$F$307,5,FALSE), "-") -> UNIVERSIDAD-COLEGIO MAYOR DE CUNDINAMARCA | J6: N° Proyecto | K6: 02-3406
C7: Número BPIN del Proyecto (Si aplica) | D7: No aplica.
C8: Nombre de la Linea de Inversión | D8: Formación para la investigación e investigación formativa
C9: Nombre de la Sublinea de Inversión | D9: Formación para la investigación / Gestión para la investigación / Investigación formativa
C10: Nombre del Proyecto de Inversión | D10: Fortalecimiento de la investigación
C11: Alcance/Resultado del Proyecto | D11: Consolidar la cultura de investigación conducente tanto a la generación, apropiación, circulación y transferencia de conocimiento como al emprendimiento e innovación, con impacto en la sociedad local, regional, nacional e internacional. - Implementar el sistema de investigación de UNICOLMAYOR que fortalezca la articulación entre las funciones misionales. - Fortalecer las capacidades investigativas que estimulen la innovación, la generación, apropiación y transferencia del conocimiento - Estimular la cooperación académica y la visibilidad de la productividad intelectual de los grupos de investigación Para el logro de estos objetivos se propone el desarrollo de las siguientes actividades: - Fortalecimiento de capacidades de investigación y desarrollo tecnológico de la Universidad Colegio Mayor de Cundinamarca a partir de tecnologías 4.0 para el diseño y la construcción en Bogotá - Fortalecimiento de los proyectos, se vincularán Jóvenes Talento (profesionales y de pregrado) como sujetos activos en la investigación, con responsabilidades claramente definidas en la producción de nuevo conocimiento e integración del enfoque de apropiación social mediante ciencia, tecnología e innovación - Desarrollo de procesos de formación en investigación para docentes (Seminarios o cursos), 70 docentes. - Un estudio de factibilidad para la constitución de un Centro de Investigación y una Oficina de Transferencia de Conocimiento - Un contrato de soporte y parametrización del Software de Gestión de Proyectos de Investigación - Plataforma antiplagio Turnitin actualizada y cobertura ampliada. - Sistema de publicación de revistas digitales OJS (Open Journal System), en funcionamiento. - Vinculación de 4 jóvenes investigadores auxiliares para el desarrollo de los proyectos
C12: Nombre del Municipio (En el cual se ejecutará el Proyecto) | D12: Bogotá D.C.
C13: Nombre del Municipio de la Sede (De la Sede en la que se ejecutará el Proyecto) | D13: Bogotá D.C.
C14: Descripción del avance del proyecto * Tener en cuenta cual de los siguientes dos siguientes casos aplica para reportar la información en este campo: 1. Si es un "Proyecto Previo": Detallar el avance frente a lo que se ha ejecutado (resumir el objetivo, las actividades realizadas, las metas cumplidas, listar cuales son los soportes relacionados con el avance del proyecto). 2. Si es un "Proyecto Nuevo": Aclarar que se informará el avance para los reportes de seguimiento posteriores indicando la fecha de inicio del proyecto. | H14: Porcentaje (%) total de avance del proyecto | K14: 0
C15: El avance se registrara en los informes de seguimiento posteriores.
C16: Fecha de Inicio del Proyecto (Desde XX Fecha) | D16: 44165 | F16: Fecha Fin del Proyecto (Hasta XX Fecha) | H16: 44560
C18: Fases de implementación del proyecto (Describir en el mismo orden que se llevarán a cabo cada una de las fases requeridas para la implementación y puesta en marcha del proyecto) ** Nota: Se deberá desagregar las Estrategias/Acciones/Actividades que se indicaron en el "Componente 3" del "Capitulo4_Anexo1_Estructura_de_los_Proyectos_de_Inversión" | G18: Fecha de Inicio de la Fase (Desde XX Fecha) | H18: Fecha de Finalización de la Fase (Hasta XX Fecha) | I18: Identificar en que vigencia se efectuará esta Fase (Año) | J18: Ponderación de la Fase frente al Total del Proyecto (Peso % de la Fase frente al total del Proyecto) | K18: Ponderación de Avance de la Fase (Peso % de lo que ha avanzado la Fase)
C19: Actividad 1. Aprobación de líneas de inversión del Plan de Fomento a la Calidad PFC para asignación de recursos 2020, definición de apuestas y metas institucionales articuladas con el Plan de Desarrollo Institucional - PDI 2020-2025 y con los proyectos de inversión de la Universidad; y aprobación del PFC por parte del Consejo Superior. | G19: 44140 | H19: 44145 | I19: 2020 | J19: 0.1 | K19: 0.1
C20: Actividad 2. Realización del proceso precontractual y contractual para las actividades programadas | G20: 44145 | H20: 44185 | I20: 2020 | J20: 0.1 | K20: 0.1
C21: Actividad 3. Implementación, parametrización y puesta en marcha de: Fortalecimiento de capacidades de investigación y desarrollo tecnológico de la Universidad Colegio Mayor de Cundinamarca a partir de tecnologías 4.0 para el diseño y la construcción en Bogotá - Fortalecimiento de los proyectos, se vincularán Jóvenes Talento (profesionales y de pregrado) como sujetos activos en la investigación, con responsabilidades claramente definidas en la producción de nuevo conocimiento e integración del enfoque de apropiación social mediante ciencia, tecnología e innovación - Desarrollo de procesos de formación en investigación para docentes (Seminarios o cursos), 70 docentes. - Un estudio de factibilidad para la constitución de un Centro de Investigación y una Oficina de Transferencia de Conocimiento - Un contrato de soporte y parametrización del Software de Gestión de Proyectos de Investigación - Plataforma antiplagio Turnitin actualizada y cobertura ampliada. - Sistema de publicación de revistas digitales OJS (Open Journal System), en funcionamiento. - Vinculación de 4 jóvenes investigadores auxiliares para el desarrollo de los proyectos | G21: 44197 | H21: 44560 | I21: 2021 | J21: 0.8 | K21: 0.8
J22: =SUM(J19:J21) -> 1 | K22: =SUM(K19:K21) -> 1
C24: Fuente Recursos | D24: Recursos Apropiados (Valor en Millones de Pesos) | E24: Recursos Comprometidos (Valor en Millones de Pesos) | F24: Recursos Ejecutados (Valor en Millones de Pesos)
C25: Estampillas (Recursos Pro-UNAL y Univ. Publicas) - (Ley 1697 / 13)
C26: Otras Estampillas
C27: Recursos Propios de la Institución
C28: Recursos CREE (Suma de los excedentes de recursos acumulados en las vigencias 2013 - 2017)
C29: Recursos PFC 2019 (Excedente de recursos de la vigencia 2019)
C30: Recursos PFC 2019 - Pasivos (Excedente de recursos de la vigencia 2019 por concepto de Pasivos)
C31: Recursos PFC 2020 (Recursos adicionales asignados para el periodo 2020) | D31: 822 | E31: =D31 -> 822
C32: Otras Fuentes (identificar cuáles son)
C33: Suma de las fuentes de financiación que componen el proyecto | D33: =SUM(D25:D32) -> 822 | E33: =SUM(E25:E32) -> 822 | F33: =SUM(F25:F32) -> 0
C35: Riesgos del Proyecto de Inversión
C36: * Riesgos Operativos: Comprenden los riesgos provenientes del funcionamiento y operatividad de los sistemas de información institucional, de la definición de los procesos, de la estructura de la entidad, de la articulación entre dependencias. - No se presenten los oferentes que se requieren para realizar el estudio de factibilidad para la constitución de un Centro de Investigación y una Oficina de Transferencia de Conocimiento, y se deba declarar desierto el proceso de contratación. - Retrasos en la ejecución del cronograma precontractual y contractual. - Continuación de la emergencia sanitaria que influiría en el desarrollo eficiente del proceso.
C37: * Riesgos Financieros: Se relacionan con el manejo de los recursos de la entidad que incluyen la ejecución presupuestal, la elaboración de los estados financieros, los pagos, los manejos de excedentes de tesorería y el manejo sobre los bienes.
C40: Se firma en la ciudad de Bogotá a los seis días del mes de noviembre de 2020.
C44: Nombre del Representante Legal de la institución : MARIA RUTH HERNANDEZ MARTINEZ
C45: Cédula de Ciudadanía: 21.082.291 de Útica.
C46: Dirección de la IES: Calle 28 5B-02
C47: Teléfono Fijo y/o Celular: 3365875; Conm. 2458800 ext. 110, 245
C48: Correo Electrónico:rectoria2@unicolmayor.edu.co
C51: Revisó: Stella Maria Marquez Verbel - Jefe Oficina de Planeacion, Sistemas y Desarrollo
C52: Celular : 3004675958
C54: Elaboró: Sandra Rubiano Rodriguez - Profesional Especializado Oficina de Planeacion,Sistemas y Desarrollo

Sheet FORM Y SEG PROFESOR
C3: Formulación y Seguimiento por Proyecto de Inversión
C6: Código SNIES | D6: 1121 | E6: Nombre IES | F6: =+IFERROR(VLOOKUP(D6,'Tabla_3.Código SNIES'!$A$1:$F$307,5,FALSE), "-") -> UNIVERSIDAD-COLEGIO MAYOR DE CUNDINAMARCA | J6: N° Proyecto | K6: 02-3405
C7: Número BPIN del Proyecto (Si aplica) | D7: No aplica.
C8: Nombre de la Linea de Inversión | D8: Formación docente disciplinar y en educación, pedagógica y didáctica
C9: Nombre de la Sublinea de Inversión | D9: Formación educativa (Formación docente con orientación en practicas pedagógicas)
C10: Nombre del Proyecto de Inversión | D10: Desarrollo profesoral
C11: Alcance/Resultado del Proyecto | D11: Desarrollar cursos de cualificación docente que permitan capacitar a 100 docentes para mejorar sus prácticas pedagógicas presencial y virtual, en el marco de las exigencias de la educación superior.
C12: Nombre del Municipio (En el cual se ejecutará el Proyecto) | D12: Bogotá D.C.
C13: Nombre del Municipio de la Sede (De la Sede en la que se ejecutará el Proyecto) | D13: Bogotá D.C.
C14: Descripción del avance del proyecto * Tener en cuenta cual de los siguientes dos siguientes casos aplica para reportar la información en este campo: 1. Si es un "Proyecto Previo": Detallar el avance frente a lo que se ha ejecutado (resumir el objetivo, las actividades realizadas, las metas cumplidas, listar cuales son los soportes relacionados con el avance del proyecto). 2. Si es un "Proyecto Nuevo": Aclarar que se informará el avance para los reportes de seguimiento posteriores indicando la fecha de inicio del proyecto. | H14: Porcentaje (%) total de avance del proyecto | K14: 0
C15: El avance se registrara en los informes de seguimiento posteriores.
C16: Fecha de Inicio del Proyecto (Desde XX Fecha) | D16: 44165 | F16: Fecha Fin del Proyecto (Hasta XX Fecha) | H16: 44560
C18: Fases de implementación del proyecto (Describir en el mismo orden que se llevarán a cabo cada una de las fases requeridas para la implementación y puesta en marcha del proyecto) ** Nota: Se deberá desagregar las Estrategias/Acciones/Actividades que se indicaron en el "Componente 3" del "Capitulo4_Anexo1_Estructura_de_los_Proyectos_de_Inversión" | G18: Fecha de Inicio de la Fase (Desde XX Fecha) | H18: Fecha de Finalización de la Fase (Hasta XX Fecha) | I18: Identificar en que vigencia se efectuará esta Fase (Año) | J18: Ponderación de la Fase frente al Total del Proyecto (Peso % de la Fase frente al total del Proyecto) | K18: Ponderación de Avance de la Fase (Peso % de lo que ha avanzado la Fase)
C19: Actividad 1. Aprobación de líneas de inversión del Plan de Fomento a la Calidad PFC para asignación de recursos 2020, definición de apuestas y metas institucionales articuladas con el Plan de Desarrollo Institucional - PDI 2020-2025 y con los proyectos de inversión de la Universidad; y aprobación del PFC por parte del Consejo Superior. | G19: 44140 | H19: 44145 | I19: 2020 | J19: 0.1 | K19: 0.1
C20: Actividad 2. Realización del proceso precontractual y contractual para las actividades programadas | G20: 44145 | H20: 44185 | I20: 2020 | J20: 0.1 | K20: 0.1
C21: Actividad 3. Desarrollar cursos de cualificación docente que permita capacitar a 100 docentes para mejorar sus prácticas pedagógicas presencial y virtual, en el marco de las exigencias de la educación superior. | G21: 44197 | H21: 44560 | I21: 2021 | J21: 0.8 | K21: 0.8
C23: Fuente Recursos | D23: Recursos Apropiados (Valor en Millones de Pesos) | E23: Recursos Comprometidos (Valor en Millones de Pesos) | F23: Recursos Ejecutados (Valor en Millones de Pesos)
C24: Estampillas (Recursos Pro-UNAL y Univ. Publicas) - (Ley 1697 / 13)
