Workbook
Name Acciones: [1]Fuentes!$A$18:$A$20
Name AÑO: 'LISTAS '!$N$27:$N$36
Name Aprendices: 'LISTAS '!$J$22:$J$23
Name APRENOR: 'LISTAS '!$B$2:$B$3
Name BIEN: 'LISTAS '!$B$15:$B$18
Name DEPENDECIAS: 'LISTAS '!$D$15:$D$39
Name Educación_continuada: 'LISTAS '!$B$32:$B$33
Name ESTADO: [1]Fuentes!$A$23:$A$24
Name Fuentes: [1]Fuentes!$A$1:$A$15
Name Honorarios: 'LISTAS '!$J$26
Name INVERSION: 'LISTAS '!$N$2:$N$23
Name Mes: 'LISTAS '!$H$10:$H$21
Name Periodo: 'LISTAS '!$H$2:$H$8
Name PROGRAMAS: 'LISTAS '!$F$2:$F$53
Name Servicio: 'LISTAS '!$J$10:$J$19
Name SOLICITUD: 'LISTAS '!$B$25:$B$26
Name T_SERVICIO: 'LISTAS '!$B$46:$B$49

Sheet EDU-CONT Y PERM
E3: EDEFO-01
B5: VIGENCIA: | K5: Logística evento | O5: 0.4 | Q5: 0.35 | V5: 0.2
B6: Facultad / Programa / Dependencias | C6: Modalidad | D6: Nombre del evento | E6: Fecha de realización | F6: Cantidad Horas Evento | G6: Valor honorarios | H6: Valor Transporte | I6: Varlor Gastos Generales | J6: Valor Gastos de alimentación | K6: Detalle | L6: Valor | M6: N° Inscritos | N6: Total costos directos | O6: Costos indirectos (40%) | P6: Total costos directos e indirectos | Q6: Utilidad (35%) | R6: Costo global | S6: Punto de Equilibrio | T6: Vr. Inscrpción = CG/PE | U6: Vr. Inscripción particulares | V6: Estudiantes, docentes, afiliados Aseuma (20%)
N7: =IF(M7="","",(SUM(G7,H7,I7,J7,L7))) | O7: =IFERROR(N7*$O$5,"") | P7: =IF(M7="","",(SUM(N7:O7))) | Q7: =IFERROR(P7*$Q$5,"") | R7: =IF(M7="","",(SUM(P7:Q7))) | S7: =IF(M7="","",(ROUND(M7/2,0))) | T7: =IFERROR(R7/S7,"") | U7: =IFERROR(ROUND(T7,-3),"") | V7: =IFERROR(ROUND(U7-(U7*$V$5),-3),"")
N8: =IF(M8="","",(SUM(G8,H8,I8,J8,L8))) | O8: =IFERROR(N8*$O$5,"") | P8: =IF(M8="","",(SUM(N8:O8))) | Q8: =IFERROR(P8*$Q$5,"") | R8: =IF(M8="","",(SUM(P8:Q8))) | S8: =IF(M8="","",(ROUND(M8/2,0))) | T8: =IFERROR(R8/S8,"") | U8: =IFERROR(ROUND(T8,-3),"") | V8: =IFERROR(ROUND(U8-(U8*$V$5),-3),"")
N9: =IF(M9="","",(SUM(G9,H9,I9,J9,L9))) | O9: =IFERROR(N9*$O$5,"") | P9: =IF(M9="","",(SUM(N9:O9))) | Q9: =IFERROR(P9*$Q$5,"") | R9: =IF(M9="","",(SUM(P9:Q9))) | S9: =IF(M9="","",(ROUND(M9/2,0))) | T9: =IFERROR(R9/S9,"") | U9: =IFERROR(ROUND(T9,-3),"") | V9: =IFERROR(ROUND(U9-(U9*$V$5),-3),"")
N10: =IF(M10="","",(SUM(G10,H10,I10,J10,L10))) | O10: =IFERROR(N10*$O$5,"") | P10: =IF(M10="","",(SUM(N10:O10))) | Q10: =IFERROR(P10*$Q$5,"") | R10: =IF(M10="","",(SUM(P10:Q10))) | S10: =IF(M10="","",(ROUND(M10/2,0))) | T10: =IFERROR(R10/S10,"") | U10: =IFERROR(ROUND(T10,-3),"") | V10: =IFERROR(ROUND(U10-(U10*$V$5),-3),"")
N11: =IF(M11="","",(SUM(G11,H11,I11,J11,L11))) | O11: =IFERROR(N11*$O$5,"") | P11: =IF(M11="","",(SUM(N11:O11))) | Q11: =IFERROR(P11*$Q$5,"") | R11: =IF(M11="","",(SUM(P11:Q11))) | S11: =IF(M11="","",(ROUND(M11/2,0))) | T11: =IFERROR(R11/S11,"") | U11: =IFERROR(ROUND(T11,-3),"") | V11: =IFERROR(ROUND(U11-(U11*$V$5),-3),"")
N12: =IF(M12="","",(SUM(G12,H12,I12,J12,L12))) | O12: =IFERROR(N12*$O$5,"") | P12: =IF(M12="","",(SUM(N12:O12))) | Q12: =IFERROR(P12*$Q$5,"") | R12: =IF(M12="","",(SUM(P12:Q12))) | S12: =IF(M12="","",(ROUND(M12/2,0))) | T12: =IFERROR(R12/S12,"") | U12: =IFERROR(ROUND(T12,-3),"") | V12: =IFERROR(ROUND(U12-(U12*$V$5),-3),"")
N13: =IF(M13="","",(SUM(G13,H13,I13,J13,L13))) | O13: =IFERROR(N13*$O$5,"") | P13: =IF(M13="","",(SUM(N13:O13))) | Q13: =IFERROR(P13*$Q$5,"") | R13: =IF(M13="","",(SUM(P13:Q13))) | S13: =IF(M13="","",(ROUND(M13/2,0))) | T13: =IFERROR(R13/S13,"") | U13: =IFERROR(ROUND(T13,-3),"") | V13: =IFERROR(ROUND(U13-(U13*$V$5),-3),"")
N14: =IF(M14="","",(SUM(G14,H14,I14,J14,L14))) | O14: =IFERROR(N14*$O$5,"") | P14: =IF(M14="","",(SUM(N14:O14))) | Q14: =IFERROR(P14*$Q$5,"") | R14: =IF(M14="","",(SUM(P14:Q14))) | S14: =IF(M14="","",(ROUND(M14/2,0))) | T14: =IFERROR(R14/S14,"") | U14: =IFERROR(ROUND(T14,-3),"") | V14: =IFERROR(ROUND(U14-(U14*$V$5),-3),"")
N15: =IF(M15="","",(SUM(G15,H15,I15,J15,L15))) | O15: =IFERROR(N15*$O$5,"") | P15: =IF(M15="","",(SUM(N15:O15))) | Q15: =IFERROR(P15*$Q$5,"") | R15: =IF(M15="","",(SUM(P15:Q15))) | S15: =IF(M15="","",(ROUND(M15/2,0))) | T15: =IFERROR(R15/S15,"") | U15: =IFERROR(ROUND(T15,-3),"") | V15: =IFERROR(ROUND(U15-(U15*$V$5),-3),"")
N16: =IF(M16="","",(SUM(G16,H16,I16,J16,L16))) | O16: =IFERROR(N16*$O$5,"") | P16: =IF(M16="","",(SUM(N16:O16))) | Q16: =IFERROR(P16*$Q$5,"") | R16: =IF(M16="","",(SUM(P16:Q16))) | S16: =IF(M16="","",(ROUND(M16/2,0))) | T16: =IFERROR(R16/S16,"") | U16: =IFERROR(ROUND(T16,-3),"") | V16: =IFERROR(ROUND(U16-(U16*$V$5),-3),"")
N17: =IF(M17="","",(SUM(G17,H17,I17,J17,L17))) | O17: =IFERROR(N17*$O$5,"") | P17: =IF(M17="","",(SUM(N17:O17))) | Q17: =IFERROR(P17*$Q$5,"") | R17: =IF(M17="","",(SUM(P17:Q17))) | S17: =IF(M17="","",(ROUND(M17/2,0))) | T17: =IFERROR(R17/S17,"") | U17: =IFERROR(ROUND(T17,-3),"") | V17: =IFERROR(ROUND(U17-(U17*$V$5),-3),"")
N18: =IF(M18="","",(SUM(G18,H18,I18,J18,L18))) | O18: =IFERROR(N18*$O$5,"") | P18: =IF(M18="","",(SUM(N18:O18))) | Q18: =IFERROR(P18*$Q$5,"") | R18: =IF(M18="","",(SUM(P18:Q18))) | S18: =IF(M18="","",(ROUND(M18/2,0))) | T18: =IFERROR(R18/S18,"") | U18: =IFERROR(ROUND(T18,-3),"") | V18: =IFERROR(ROUND(U18-(U18*$V$5),-3),"")
... N29: =IF(M29="","",(SUM(G29,H29,I29,J29,L29))) | O29: =IFERROR(N29*$O$5,"") | P29: =IF(M29="","",(SUM(N29:O29))) | Q29: =IFERROR(P29*$Q$5,"") | R29: =IF(M29="","",(SUM(P29:Q29))) | S29: =IF(M29="","",(ROUND(M29/2,0))) | T29: =IFERROR(R29/S29,"") | U29: =IFERROR(ROUND(T29,-3),"") | V29: =IFERROR(ROUND(U29-(U29*$V$5),-3),"")
B30: Totales | N30: =IF(N7="","",SUM(N7:N29)) | O30: =IF(O7="","",SUM(O7:O29)) | P30: =IF(P7="","",SUM(P7:P29)) | Q30: =IF(Q7="","",SUM(Q7:Q29)) | R30: =IF(R7="","",SUM(R7:R29))

Sheet INGRESOS
E3: EDEFO-02
B5: VIGENCIA:
B6: PROGRAMA Y/O DEPENDENCIA | C6: ÁREA / SERVICIO | D6: DETALLE | E6: PERIODO O FRECUENCIA | F6: MES INICIAL | G6: CANTIDAD | H6: VALOR UNITARIO | I6: TOTAL
I7: =IF(H7="","",G7*H7*J7) | J7: =VLOOKUP(F7,'Cálculo PAC'!$B$4:$I$15,MATCH(E7,'Cálculo PAC'!$B$3:$I$3,0),0) -> #N/A
I8: =IF(H8="","",G8*H8*J8) | J8: =VLOOKUP(F8,'Cálculo PAC'!$B$4:$I$15,MATCH(E8,'Cálculo PAC'!$B$3:$I$3,0),0) -> #N/A
I9: =IF(H9="","",G9*H9*J9) | J9: =VLOOKUP(F9,'Cálculo PAC'!$B$4:$I$15,MATCH(E9,'Cálculo PAC'!$B$3:$I$3,0),0) -> #N/A
I10: =IF(H10="","",G10*H10*J10) | J10: =VLOOKUP(F10,'Cálculo PAC'!$B$4:$I$15,MATCH(E10,'Cálculo PAC'!$B$3:$I$3,0),0) -> #N/A
I11: =IF(H11="","",G11*H11*J11) | J11: =VLOOKUP(F11,'Cálculo PAC'!$B$4:$I$15,MATCH(E11,'Cálculo PAC'!$B$3:$I$3,0),0) -> #N/A
I12: =IF(H12="","",G12*H12*J12) | J12: =VLOOKUP(F12,'Cálculo PAC'!$B$4:$I$15,MATCH(E12,'Cálculo PAC'!$B$3:$I$3,0),0) -> #N/A
I13: =IF(H13="","",G13*H13*J13) | J13: =VLOOKUP(F13,'Cálculo PAC'!$B$4:$I$15,MATCH(E13,'Cálculo PAC'!$B$3:$I$3,0),0) -> #N/A
I14: =IF(H14="","",G14*H14*J14) | J14: =VLOOKUP(F14,'Cálculo PAC'!$B$4:$I$15,MATCH(E14,'Cálculo PAC'!$B$3:$I$3,0),0) -> #N/A
I15: =IF(H15="","",G15*H15*J15) | J15: =VLOOKUP(F15,'Cálculo PAC'!$B$4:$I$15,MATCH(E15,'Cálculo PAC'!$B$3:$I$3,0),0) -> #N/A
I16: =IF(H16="","",G16*H16*J16) | J16: =VLOOKUP(F16,'Cálculo PAC'!$B$4:$I$15,MATCH(E16,'Cálculo PAC'!$B$3:$I$3,0),0) -> #N/A
I17: =IF(H17="","",G17*H17*J17) | J17: =VLOOKUP(F17,'Cálculo PAC'!$B$4:$I$15,MATCH(E17,'Cálculo PAC'!$B$3:$I$3,0),0) -> #N/A
I18: =IF(H18="","",G18*H18*J18) | J18: =VLOOKUP(F18,'Cálculo PAC'!$B$4:$I$15,MATCH(E18,'Cálculo PAC'!$B$3:$I$3,0),0) -> #N/A
... I27: =IF(H27="","",G27*H27*J27) | J27: =VLOOKUP(F27,'Cálculo PAC'!$B$4:$I$15,MATCH(E27,'Cálculo PAC'!$B$3:$I$3,0),0) -> #N/A
H28: TOTALES | I28: =SUM(I7:I27) -> 0

Sheet BIENES - INSUMOS
E3: EDEFO-03
B5: VIGENCIA:
B6: FACULTAD / PROGRAMA / DEPENDENCIA | C6: BIEN / INSUMO REQUERIDO | D6: DESCRIPCIÓN | E6: TIPO DE SOLICITUD | F6: JUSTIFICACIÓN | G6: PROYECTO DE INVERSIÓN | H6: PERIODO O FRECUENCIA | I6: MES INICIAL | J6: CANTIDAD | K6: VALOR UNITARIO | L6: VALOR TOTAL
C7: Equipos de cómputo | E7: Nuevo | L7: =IF(J7="","",J7*K7*'BIENES - INSUMOS'!M7) | M7: =VLOOKUP(I7,'Cálculo PAC'!$B$4:$I$15,MATCH(H7,'Cálculo PAC'!$B$3:$I$3,0),0) -> #N/A
L8: =IF(J8="","",J8*K8*'BIENES - INSUMOS'!M8) | M8: =VLOOKUP(I8,'Cálculo PAC'!$B$4:$I$15,MATCH(H8,'Cálculo PAC'!$B$3:$I$3,0),0) -> #N/A
L9: =IF(J9="","",J9*K9*'BIENES - INSUMOS'!M9) | M9: =VLOOKUP(I9,'Cálculo PAC'!$B$4:$I$15,MATCH(H9,'Cálculo PAC'!$B$3:$I$3,0),0) -> #N/A
L10: =IF(J10="","",J10*K10*'BIENES - INSUMOS'!M10) | M10: =VLOOKUP(I10,'Cálculo PAC'!$B$4:$I$15,MATCH(H10,'Cálculo PAC'!$B$3:$I$3,0),0) -> #N/A
L11: =IF(J11="","",J11*K11*'BIENES - INSUMOS'!M11) | M11: =VLOOKUP(I11,'Cálculo PAC'!$B$4:$I$15,MATCH(H11,'Cálculo PAC'!$B$3:$I$3,0),0) -> #N/A
L12: =IF(J12="","",J12*K12*'BIENES - INSUMOS'!M12) | M12: =VLOOKUP(I12,'Cálculo PAC'!$B$4:$I$15,MATCH(H12,'Cálculo PAC'!$B$3:$I$3,0),0) -> #N/A
L13: =IF(J13="","",J13*K13*'BIENES - INSUMOS'!M13) | M13: =VLOOKUP(I13,'Cálculo PAC'!$B$4:$I$15,MATCH(H13,'Cálculo PAC'!$B$3:$I$3,0),0) -> #N/A
L14: =IF(J14="","",J14*K14*'BIENES - INSUMOS'!M14) | M14: =VLOOKUP(I14,'Cálculo PAC'!$B$4:$I$15,MATCH(H14,'Cálculo PAC'!$B$3:$I$3,0),0) -> #N/A
L15: =IF(J15="","",J15*K15*'BIENES - INSUMOS'!M15) | M15: =VLOOKUP(I15,'Cálculo PAC'!$B$4:$I$15,MATCH(H15,'Cálculo PAC'!$B$3:$I$3,0),0) -> #N/A
L16: =IF(J16="","",J16*K16*'BIENES - INSUMOS'!M16) | M16: =VLOOKUP(I16,'Cálculo PAC'!$B$4:$I$15,MATCH(H16,'Cálculo PAC'!$B$3:$I$3,0),0) -> #N/A
L17: =IF(J17="","",J17*K17*'BIENES - INSUMOS'!M17) | M17: =VLOOKUP(I17,'Cálculo PAC'!$B$4:$I$15,MATCH(H17,'Cálculo PAC'!$B$3:$I$3,0),0) -> #N/A
L18: =IF(J18="","",J18*K18*'BIENES - INSUMOS'!M18) | M18: =VLOOKUP(I18,'Cálculo PAC'!$B$4:$I$15,MATCH(H18,'Cálculo PAC'!$B$3:$I$3,0),0) -> #N/A
L19: =IF(J19="","",J19*K19*'BIENES - INSUMOS'!M19) | M19: =VLOOKUP(I19,'Cálculo PAC'!$B$4:$I$15,MATCH(H19,'Cálculo PAC'!$B$3:$I$3,0),0) -> #N/A
... L38: =IF(J38="","",J38*K38*'BIENES - INSUMOS'!M38) | M38: =VLOOKUP(I38,'Cálculo PAC'!$B$4:$I$15,MATCH(H38,'Cálculo PAC'!$B$3:$I$3,0),0) -> #N/A
K39: Totales | L39: =IF(L7="","",SUM(L7:L38))

Sheet SERVICIOS
E3: EDEFO-04
B5: VIGENCIA:
B6: FACULTAD / PROGRAMA / DEPENDENCIA | C6: ACTIVIDAD | D6: TIPO DE SERVICIO | E6: DESCRIPCIÓN | F6: JUSTIFICACIÓN | G6: PERIODO O FRECUENCIA | H6: MES INICIAL | I6: CANTIDAD | J6: VALOR UNITARIO | K6: VALOR TOTAL
K7: =IF(I7="","",I7*J7*L7) | L7: =VLOOKUP(H7,'Cálculo PAC'!$B$4:$I$15,MATCH(G7,'Cálculo PAC'!$B$3:$I$3,0),0) -> #N/A
K8: =IF(I8="","",I8*J8*L8) | L8: =VLOOKUP(H8,'Cálculo PAC'!$B$4:$I$15,MATCH(G8,'Cálculo PAC'!$B$3:$I$3,0),0) -> #N/A
K9: =IF(I9="","",I9*J9*L9) | L9: =VLOOKUP(H9,'Cálculo PAC'!$B$4:$I$15,MATCH(G9,'Cálculo PAC'!$B$3:$I$3,0),0) -> #N/A
K10: =IF(I10="","",I10*J10*L10) | L10: =VLOOKUP(H10,'Cálculo PAC'!$B$4:$I$15,MATCH(G10,'Cálculo PAC'!$B$3:$I$3,0),0) -> #N/A
K11: =IF(I11="","",I11*J11*L11) | L11: =VLOOKUP(H11,'Cálculo PAC'!$B$4:$I$15,MATCH(G11,'Cálculo PAC'!$B$3:$I$3,0),0) -> #N/A
K12: =IF(I12="","",I12*J12*L12) | L12: =VLOOKUP(H12,'Cálculo PAC'!$B$4:$I$15,MATCH(G12,'Cálculo PAC'!$B$3:$I$3,0),0) -> #N/A
K13: =IF(I13="","",I13*J13*L13) | L13: =VLOOKUP(H13,'Cálculo PAC'!$B$4:$I$15,MATCH(G13,'Cálculo PAC'!$B$3:$I$3,0),0) -> #N/A
K14: =IF(I14="","",I14*J14*L14) | L14: =VLOOKUP(H14,'Cálculo PAC'!$B$4:$I$15,MATCH(G14,'Cálculo PAC'!$B$3:$I$3,0),0) -> #N/A
K15: =IF(I15="","",I15*J15*L15) | L15: =VLOOKUP(H15,'Cálculo PAC'!$B$4:$I$15,MATCH(G15,'Cálculo PAC'!$B$3:$I$3,0),0) -> #N/A
K16: =IF(I16="","",I16*J16*L16) | L16: =VLOOKUP(H16,'Cálculo PAC'!$B$4:$I$15,MATCH(G16,'Cálculo PAC'!$B$3:$I$3,0),0) -> #N/A
K17: =IF(I17="","",I17*J17*L17) | L17: =VLOOKUP(H17,'Cálculo PAC'!$B$4:$I$15,MATCH(G17,'Cálculo PAC'!$B$3:$I$3,0),0) -> #N/A
K18: =IF(I18="","",I18*J18*L18) | L18: =VLOOKUP(H18,'Cálculo PAC'!$B$4:$I$15,MATCH(G18,'Cálculo PAC'!$B$3:$I$3,0),0) -> #N/A
... K31: =IF(I31="","",I31*J31*L31) | L31: =VLOOKUP(H31,'Cálculo PAC'!$B$4:$I$15,MATCH(G31,'Cálculo PAC'!$B$3:$I$3,0),0) -> #N/A
J32: Totales | K32: =IF(K7="","",SUM(K7:K31))

Sheet TALENTO HUMANO
E3: EDEFO-11
B5: VIGENCIA:
B6: FACULTAD / PROGRAMA / DEPENDENCIA | C6: TIPO DE NECESIDAD | D6: JUSTIFICACIÓN | E6: PERIODO O FRECUENCIA | F6: MES INICIAL | G6: DEDICACIÓN | H6: CANTIDAD | I6: VALOR UNITARIO HONORARIOS | J6: TOTAL ANUAL
J7: =IF(H7="","",IF(C7="Aprendices",K7,H7*I7*L7)) | K7: =IF(G7="Medio Tiempo",H7/2,IF(G7="Tiempo Completo",H7,"0")) -> 0 | L7: =VLOOKUP(F7,'Cálculo PAC'!$B$4:$I$15,MATCH(E7,'Cálculo PAC'!$B$3:$I$3,0),0) -> #N/A | M7: =+K7*L7 -> #N/A
J8: =IF(H8="","",IF(C8="Aprendices",K8,H8*I8*L8)) | K8: =IF(G8="Medio Tiempo",H8/2,IF(G8="Tiempo Completo",H8,"0")) -> 0 | L8: =VLOOKUP(F8,'Cálculo PAC'!$B$4:$I$15,MATCH(E8,'Cálculo PAC'!$B$3:$I$3,0),0) -> #N/A | M8: =+K8*L8 -> #N/A
J9: =IF(H9="","",IF(C9="Aprendices",K9,H9*I9*L9)) | K9: =IF(G9="Medio Tiempo",H9/2,IF(G9="Tiempo Completo",H9,"0")) -> 0 | L9: =VLOOKUP(F9,'Cálculo PAC'!$B$4:$I$15,MATCH(E9,'Cálculo PAC'!$B$3:$I$3,0),0) -> #N/A | M9: =+K9*L9 -> #N/A
J10: =IF(H10="","",IF(C10="Aprendices",K10,H10*I10*L10)) | K10: =IF(G10="Medio Tiempo",H10/2,IF(G10="Tiempo Completo",H10,"0")) -> 0 | L10: =VLOOKUP(F10,'Cálculo PAC'!$B$4:$I$15,MATCH(E10,'Cálculo PAC'!$B$3:$I$3,0),0) -> #N/A | M10: =+K10*L10 -> #N/A
J11: =IF(H11="","",IF(C11="Aprendices",K11,H11*I11*L11)) | K11: =IF(G11="Medio Tiempo",H11/2,IF(G11="Tiempo Completo",H11,"0")) -> 0 | L11: =VLOOKUP(F11,'Cálculo PAC'!$B$4:$I$15,MATCH(E11,'Cálculo PAC'!$B$3:$I$3,0),0) -> #N/A | M11: =+K11*L11 -> #N/A
J12: =IF(H12="","",IF(C12="Aprendices",K12,H12*I12*L12)) | K12: =IF(G12="Medio Tiempo",H12/2,IF(G12="Tiempo Completo",H12,"0")) -> 0 | L12: =VLOOKUP(F12,'Cálculo PAC'!$B$4:$I$15,MATCH(E12,'Cálculo PAC'!$B$3:$I$3,0),0) -> #N/A | M12: =+K12*L12 -> #N/A
J13: =IF(H13="","",IF(C13="Aprendices",K13,H13*I13*L13)) | K13: =IF(G13="Medio Tiempo",H13/2,IF(G13="Tiempo Completo",H13,"0")) -> 0 | L13: =VLOOKUP(F13,'Cálculo PAC'!$B$4:$I$15,MATCH(E13,'Cálculo PAC'!$B$3:$I$3,0),0) -> #N/A | M13: =+K13*L13 -> #N/A
J14: =IF(H14="","",IF(C14="Aprendices",K14,H14*I14*L14)) | K14: =IF(G14="Medio Tiempo",H14/2,IF(G14="Tiempo Completo",H14,"0")) -> 0 | L14: =VLOOKUP(F14,'Cálculo PAC'!$B$4:$I$15,MATCH(E14,'Cálculo PAC'!$B$3:$I$3,0),0) -> #N/A | M14: =+K14*L14 -> #N/A
J15: =IF(H15="","",IF(C15="Aprendices",K15,H15*I15*L15)) | K15: =IF(G15="Medio Tiempo",H15/2,IF(G15="Tiempo Completo",H15,"0")) -> 0 | L15: =VLOOKUP(F15,'Cálculo PAC'!$B$4:$I$15,MATCH(E15,'Cálculo PAC'!$B$3:$I$3,0),0) -> #N/A | M15: =+K15*L15 -> #N/A
J16: =IF(H16="","",IF(C16="Aprendices",K16,H16*I16*L16)) | K16: =IF(G16="Medio Tiempo",H16/2,IF(G16="Tiempo Completo",H16,"0")) -> 0 | L16: =VLOOKUP(F16,'Cálculo PAC'!$B$4:$I$15,MATCH(E16,'Cálculo PAC'!$B$3:$I$3,0),0) -> #N/A | M16: =+K16*L16 -> #N/A
J17: =IF(H17="","",IF(C17="Aprendices",K17,H17*I17*L17)) | K17: =IF(G17="Medio Tiempo",H17/2,IF(G17="Tiempo Completo",H17,"0")) -> 0 | L17: =VLOOKUP(F17,'Cálculo PAC'!$B$4:$I$15,MATCH(E17,'Cálculo PAC'!$B$3:$I$3,0),0) -> #N/A | M17: =+K17*L17 -> #N/A
J18: =IF(H18="","",IF(C18="Aprendices",K18,H18*I18*L18)) | K18: =IF(G18="Medio Tiempo",H18/2,IF(G18="Tiempo Completo",H18,"0")) -> 0 | L18: =VLOOKUP(F18,'Cálculo PAC'!$B$4:$I$15,MATCH(E18,'Cálculo PAC'!$B$3:$I$3,0),0) -> #N/A | M18: =+K18*L18 -> #N/A
... J26: =IF(H26="","",IF(C26="Aprendices",K26,H26*I26*L26)) | K26: =IF(G26="Medio Tiempo",H26/2,IF(G26="Tiempo Completo",H26,"0")) -> 0 | L26: =VLOOKUP(F26,'Cálculo PAC'!$B$4:$I$15,MATCH(E26,'Cálculo PAC'!$B$3:$I$3,0),0) -> #N/A | M26: =+K26*L26 -> #N/A
I27: Total honorarios | J27: =SUMIF(C7:C26,"Honorarios",J7:J26) -> 0
I28: Total aprendices | J28: =SUMIF(C7:C26,"Aprendices",J7:J26) -> 0
B29: NOTA:
B31: SI EL PRACTICANTE (APRENDIZ) ES TIEMPO COMPLETO EL APOYO ECONÓMICO CORRESPONDE A 1 SMMLV
B32: SI EL PRACTICANTE (APRENDIZ) ES MEDIO TIEMPO EL APOYO ECONÓMICO CORRESPONDE A 1/2 SMMLV

Sheet INVERSIONES
G2: EDEFO-12
B6: UNIVERSIDAD COLEGIO MAYOR DE CUNDINAMARCA
B7: OFICINA DE PLANEACIÓN, SISTEMAS Y DESARROLLO
B9: PROYECCIÓN DE INVERSIONES
E12: VIGENCIA
B14: Nombre del Proyecto:
B16: Número | C16: Descripción de la Actividad | H16: Valor Estimado
B28: TOTAL PROYECTO | H28: =+SUM(H17:H27) -> 0
B31: FECHA DE ENVÍO (DD/MM/AAAA)
C33: Nombre:
B34: RESPONSABLE DEL PROYECTO

Sheet Cálculo PAC
K1: Plan anual mensualizado de Caja
C2: 1 | D2: 2 | E2: 3 | F2: 4 | G2: 6 | H2: 12
C3: Mensual | D3: Bimensual | E3: Trimestral | F3: Cuatrimestral | G3: Semestral | H3: Anual | I3: Única vez
B4: Enero | C4: 12 | D4: =+$C4/D$2 -> 6 | E4: =+$C4/E$2 -> 4 | F4: =+$C4/F$2 -> 3 | G4: =+$C4/G$2 -> 2 | H4: =+$C4/H$2 -> 1 | I4: 1
B5: Febrero | C5: 11 | D5: =+$C5/D$2 -> 5.5 | E5: =+$C5/E$2 -> 3.6666667 | F5: =+$C5/F$2 -> 2.75 | G5: =+$C5/G$2 -> 1.8333333 | H5: =+$C5/H$2 -> 0.91666667 | I5: 1
B6: Marzo | C6: 10 | D6: =+$C6/D$2 -> 5 | E6: =+$C6/E$2 -> 3.3333333 | F6: =+$C6/F$2 -> 2.5 | G6: =+$C6/G$2 -> 1.6666667 | H6: =+$C6/H$2 -> 0.83333333 | I6: 1
B7: Abril | C7: 9 | D7: =+$C7/D$2 -> 4.5 | E7: =+$C7/E$2 -> 3 | F7: =+$C7/F$2 -> 2.25 | G7: =+$C7/G$2 -> 1.5 | H7: =+$C7/H$2 -> 0.75 | I7: 1
B8: Mayo | C8: 8 | D8: =+$C8/D$2 -> 4 | E8: =+$C8/E$2 -> 2.6666667 | F8: =+$C8/F$2 -> 2 | G8: =+$C8/G$2 -> 1.3333333 | H8: =+$C8/H$2 -> 0.66666667 | I8: 1
B9: Junio | C9: 7 | D9: =+$C9/D$2 -> 3.5 | E9: =+$C9/E$2 -> 2.3333333 | F9: =+$C9/F$2 -> 1.75 | G9: =+$C9/G$2 -> 1.1666667 | H9: =+$C9/H$2 -> 0.58333333 | I9: 1
B10: Julio | C10: 6 | D10: =+$C10/D$2 -> 3 | E10: =+$C10/E$2 -> 2 | F10: =+$C10/F$2 -> 1.5 | G10: =+$C10/G$2 -> 1 | H10: =+$C10/H$2 -> 0.5 | I10: 1
B11: Agosto | C11: 5 | D11: =+$C11/D$2 -> 2.5 | E11: =+$C11/E$2 -> 1.6666667 | F11: =+$C11/F$2 -> 1.25 | G11: =+$C11/G$2 -> 0.83333333 | H11: =+$C11/H$2 -> 0.41666667 | I11: 1
B12: Septiembre | C12: 4 | D12: =+$C12/D$2 -> 2 | E12: =+$C12/E$2 -> 1.3333333 | F12: =+$C12/F$2 -> 1 | G12: =+$C12/G$2 -> 0.66666667 | H12: =+$C12/H$2 -> 0.33333333 | I12: 1
B13: Octubre | C13: 3 | D13: =+$C13/D$2 -> 1.5 | E13: =+$C13/E$2 -> 1 | F13: =+$C13/F$2 -> 0.75 | G13: =+$C13/G$2 -> 0.5 | H13: =+$C13/H$2 -> 0.25 | I13: 1
B14: Noviembre | C14: 2 | D14: =+$C14/D$2 -> 1 | E14: =+$C14/E$2 -> 0.66666667 | F14: =+$C14/F$2 -> 0.5 | G14: =+$C14/G$2 -> 0.33333333 | H14: =+$C14/H$2 -> 0.16666667 | I14: 1
B15: Diciembre | C15: 1 | D15: =+$C15/D$2 -> 0.5 | E15: =+$C15/E$2 -> 0.33333333 | F15: =+$C15/F$2 -> 0.25 | G15: =+$C15/G$2 -> 0.16666667 | H15: =+$C15/H$2 -> 0.083333333 | I15: 1

Sheet LISTAS 
B1: PRESUPUESTO | D1: FACULTADES | F1: FACULTAD / PROGRAMA / DEPENDENCIA | H1: PERÍODO | J1: DEPENDENCIAS | N1: PROYECTOS DE INVERSIÓN
B2: Aprendices | D2: Facultad Administración y Economía | F2: Administración de Empresas Comerciales - Bogotá | H2: Mensual | J2: Área de Salud | N2: 02-3101 Adecuación y mejoramiento de la infraestructura física
B3: Honorarios | D3: Facultad Ciencias de la Salud | F3: Administración de Empresas Comerciales - Funza | H3: Bimensual | J3: Cursos de Extensión | N3: 02-3202 Fortalecimiento de equipos de laboratorios
D4: Facultad Ciencias Sociales | F4: Administración de Empresas Comerciales -Tintal | H4: Trimestral | N4: 02-3203 Fortalecimiento de recursos bibliográficos
D5: Facultad de Derecho | F5: Admisiones, Registro y Control | H5: Cuatrimestral | N5: 02-3204 Fortalecimiento Centro de Aprendizaje e investigación -CRA1
D6: Facultad de Ingeniería y Arquitectura | F6: Área de Salud | H6: Semestral | N6: 02-3301 Fortalecimiento Sistemas Integrados de Gestión
F7: Bacteriología y Laboratorio Clinico | H7: Anual | N7: 02-3302 Fortalecimiento de la autoevaluación y acreditación alta calidad
F8: Biblioteca Bogotá | H8: Única vez | N8: 02-3303 Fortalecimiento Internacionalización
F9: Biblioteca Sede Funza | H9: MES | J9: ÁREA / SERVICIO | N9: 02-3304 Fortalecimiento Plataforma Tecnológica
F10: Biblioteca Sede Tintal | H10: Enero | J10: Artes Manuales | N10: 02-3305 Fortalecimiento de la comunicación, visibilización y promoción institucional
F11: Construcción y Gestión en Arquitectura | H11: Febrero | J11: Belleza y Cosmetología | N11: 02-3306 Fortalecimiento Sistema Innovación en TIC
F12: Cursos de Extensión | H12: Marzo | J12: Cocina | N12: 02-3307 Fortalecimiento Programa Desarrollo Profesoral
F13: Derecho | H13: Abril | J13: Corte y Confección | N13: 02-3308 Fortalecimiento de la capacitación y las competencias del personal administrativo y mejoramiento del clima organizacional
B14: BIEN Y/O INSUMO | D14: PROGRAMAS ACADÉMICOS | F14: Derecho - Funza | H14: Mayo | J14: Labores | N14: 02-3309 Fortalecimiento de la investigación
B15: Equipos de cómputo | D15: Administración de Empresas Comerciales - Bogotá | F15: Derecho - Tintal | H15: Junio | J15: Pintura | N15: 02-3310 Fortalecimiento multilingiiismo
B16: Recursos audiovisuales | D16: Administración de Empresas Comerciales - Funza | F16: Diseño Digital y Multimedia | H16: Julio | J16: Música | N16: 02-3311 Fortalecimiento de la relación con egresados
B17: Bienes y equipos diferentes a informàticos y audiovisuales | D17: Administración de Empresas Comerciales -Tintal | F17: División de Promoción y Relaciones Interinstitucionales | H17: Agosto | J17: Exámenes de laboratorio | N17: 02-3312 Fortalecimiento Gestión Documental Institucional
B18: Insumos | D18: Bacteriología y Laboratorio Clinico | F18: División de Recursos Humanos | H18: Septiembre | J18: Odontología | N18: 02-3313 Sello Editorial
D19: Construcción y Gestión en Arquitectura | F19: División de Servicios Administrativos y Recursos Físicos | H19: Octubre | J19: Otro | N19: 02-3314 Permanencia y graduación estudiantil
D20: Derecho | F20: División Financiera | H20: Noviembre | N20: 02-3315 Nueva planta física Unicolmayor
D21: Derecho - Funza | F21: División Medio Universitario | H21: Diciembre | J21: Aprendices | N21: 02-3316 Fortalecimiento, creación de programas y ampliación de cobertura
D22: Derecho - Tintal | F22: Economía | J22: Medio Tiempo | N22: 02-3317 Rediseño Organizacional
D23: Diseño Digital y Multimedia | F23: Especialización en Edificación Sostenible | J23: Tiempo Completo | N23: Otro no relacionado
B24: TIPO DE SOLICITUD | D24: Economía | F24: Especialización en Gerencia en Seguridad y Salud en el Trabajo
B25: Nuevo | D25: Especialización en Edificación Sostenible | F25: Especialización en Promoción en Salud y Desarrollo Humano | J25: Honorarios
B26: Reemplazo | D26: Especialización en Gerencia en Seguridad y Salud en el Trabajo | F26: Especialización Gerencia de la Calidad en Salud | J26: Honorarios | N26: AÑO
D27: Especialización en Promoción en Salud y Desarrollo Humano | F27: Especialización Tecnológica en Metodología BIM para el desarrollo de Proyectos de la Edificación | N27: 2021
D28: Especialización Gerencia de la Calidad en Salud | F28: Facultad Administración y Economía | N28: 2022
D29: Especialización Tecnológica en Metodología BIM para el desarrollo de Proyectos de la Edificación | F29: Facultad Ciencias de la Salud | N29: 2023
D30: Maestría en Desarrollo Humano | F30: Facultad Ciencias Sociales | N30: 2024
B31: MODALIDAD | D31: Maestría en Microbiología | F31: Facultad de Derecho | N31: 2025
B32: Educación continuada | D32: Programa Ciencias Básicas | F32: Facultad de Ingeniería y Arquitectura | N32: 2026
B33: Educación permanente | D33: Tecnología en Asistencia Gerencial Distancia | F33: Maestría en Desarrollo Humano | N33: 2027
D34: Tecnología en Asistencia Gerencial Presencial - Bogotá | F34: Maestría en Microbiología | N34: 2028
D35: Tecnología en Asistencia Gerencial Presencial - Funza | F35: Oficina de Autoevaluación y Acreditación | N35: 2029
D36: Tecnología en Delineantes de Arquitectura e Ingeniería | F36: Oficina de Control Interno | N36: 2030
D37: Tecnología en Gestión y Ejecución de Construcciones | F37: Oficina de Investigaciones
B38: SERVICIO REQUERIDO | D38: Trabajo Social | F38: Oficina de Planeación, Sistemas y Desarrollo
B39: Mantenimiento equipos de cómputo | D39: Turismo | F39: Oficina de Proyección Social
B40: Mantenimiento de equipos | F40: Oficina Jurídica
...
